BEGIN:VCALENDAR
PRODID:-//eluceo/ical//2.0/EN
VERSION:2.0
CALSCALE:GREGORIAN
BEGIN:VEVENT
UID:715dd95e66190b522273db653449b0b4
DTSTAMP:20260423T125523Z
SUMMARY:Online seminář: Jak uspět na evropských trzích – praktické 
 TIPY pro export
DESCRIPTION:Název akce: Online seminář: Jak uspět na evropských trzíc
 h – praktické TIPY pro export\nURL: https://www.spcr.cz/online-seminar-
 jak-uspet-na-evropskych-trzich-prakticke-tipy-pro-export-0\nPopis: \n\nOnl
 ine seminář zaměřený na praktické informace\, jak oslovit a získat 
 zákazníky z různých evropských trhů\, nejčastější chyby při pre
 zentaci firmy\, ale i tipy pro správnou volbu exportních trhů – ŽIV
 Ě.Anotace:\n\nOslovení zahraničního klienta/obchodního partnera – 
 úvodní komunikace (emailová\, telefonická)\nPříprava marketingových
  materiálů firmy\nDůležité úpravy webových stránek (jazyková muta
 ce apod.)\nPrezentace firmy při obchodním jednání\nTipy pro popis vaš
 í konkurenční výhody\nVolba správného trhu / trhů pro váš výrobe
 k či službu\nNáklady při vstupu na zahraniční trhy\nÚčast na velet
 rzích \nA další tipy i nejčastější chyby při exportu\nOtázky a o
 dpovědi\n\nPraktické příklady se budou týkat různých zahraničních
  trhů\, např. Německa\, Španělska\, Rumunska\, Rakouska\, balkánský
 ch zemí.Přednášejícími jsou bývalí ředitelé zahraničních kance
 láří CzechTrade\, kteří mají bohaté zkušenosti s exportem na evrop
 ské trhy.\nMožnost registrace a více informací k dispozici zde.\n
URL:https://www.spcr.cz/online-seminar-jak-uspet-na-evropskych-trzich-prakt
 icke-tipy-pro-export-0
DTSTART:20220426T100000
DTEND:20220426T120000
LOCATION:
END:VEVENT
END:VCALENDAR
