BEGIN:VCALENDAR
PRODID:-//eluceo/ical//2.0/EN
VERSION:2.0
CALSCALE:GREGORIAN
BEGIN:VEVENT
UID:fd19b4075d1c8992ac2db7c7770b81fa
DTSTAMP:20260423T125654Z
SUMMARY:Online seminář: Aktuální možnosti obchodování s ČÍNOU
DESCRIPTION:Název akce: Online seminář: Aktuální možnosti obchodován
 í s ČÍNOU\nURL: https://www.spcr.cz/online-seminar-aktualni-moznosti-ob
 chodovani-s-cinou\nPopis: \n\nJak se změnila ČÍNA během pandemie?Jaké
  problémy to přineslo českým exportérům a naopak - jaké nové pří
 ležitosti vznikly?Jakou podporu nabízejí firmám naše kanceláře v S
 hanghaji\, Pekingu a Chengdu - ŽIVĚ s řediteli zahraničních kancelá
 ří CzechTrade v ČÍNĚ.\nBěhem online semináře se dozvíte:\n\nAktu
 ální podmínky cestování do Číny\nSoučasná situace v Číně – 
 opatření a ekonomický vývoj\nAktuální možnosti obchodování s Č
 ínou a exportní příležitosti pro české firmy\nNabídka služeb Czec
 hTrade v době pandemie (DEA\, case study)\nE-COMMERCE – jak na online
  prodej do Číny\nPřipravované akce\nOtázky & Odpovědi \n\nBližší
  informace a možnost registrace zde. \n
URL:https://www.spcr.cz/online-seminar-aktualni-moznosti-obchodovani-s-cino
 u
DTSTART:20220525T090000
DTEND:20220525T103000
LOCATION:
END:VEVENT
END:VCALENDAR
