BEGIN:VCALENDAR
PRODID:-//eluceo/ical//2.0/EN
VERSION:2.0
CALSCALE:GREGORIAN
BEGIN:VEVENT
UID:d284f87eb3646cf840b2a8b1c2ef21fb
DTSTAMP:20260423T145744Z
SUMMARY:Online seminář: Jste připraveni na obchodování s JAPONSKEM a J
 IŽNÍ KOREOU?
DESCRIPTION:Název akce: Online seminář: Jste připraveni na obchodován
 í s JAPONSKEM a JIŽNÍ KOREOU?\nURL: https://www.spcr.cz/online-seminar-
 jste-pripraveni-na-obchodovani-s-japonskem-jizni-koreou\nPopis: \n\nOnline
  seminář zaměřený na aktuální situaci a budoucí exportní příle
 žitosti na trzích Japonska a Jižní Koreji\, s řediteli zahraničníc
 h kanceláří CzechTrade – ŽIVĚ.\nAnotace:\n\nAktuální ekonomická
  a politická situace v Japonsku a Jižní Koreji\nExportní příležitos
 ti pro české firmy\nCharakteristika dodavatelských řetězců\nPlánova
 né komerční akce\nAktuální podmínky vstupu pro obchodní cestující
 \nQ&A\n\nObecné informace:\n\nSvé dotazy k tématu můžete zaslat před
  online seminářem prostřednictvím přihlášky\, nebo prostřednictví
 m chatu na akci.\nDen před konáním akce Vám e-mailem zašleme prolink 
 na danou akci.\nK účasti na online semináři potřebujete pouze PC\, no
 tebook či telefon s internetovým připojením.\nAkce je ZDARMA. \nRegis
 trace zde: https://www.czechtrade.cz/kalendar-akci/archiv-akci/online-sem
 inar_-jste-pripraveni-na-obchodovani-s-japonskem-a-jizni-koreou       
                       \n
URL:https://www.spcr.cz/online-seminar-jste-pripraveni-na-obchodovani-s-jap
 onskem-jizni-koreou
DTSTART:20220518T090000
DTEND:20220518T103000
LOCATION:
END:VEVENT
END:VCALENDAR
