BEGIN:VCALENDAR
PRODID:-//eluceo/ical//2.0/EN
VERSION:2.0
CALSCALE:GREGORIAN
BEGIN:VEVENT
UID:99237dc6f01283ab5280927c92a2bff9
DTSTAMP:20260423T150037Z
SUMMARY:Online seminář - příležitosti v obranném průmyslu v JAR
DESCRIPTION:Název akce: Online seminář - příležitosti v obranném pr
 ůmyslu v JAR\nURL: https://www.spcr.cz/online-seminar-prilezitosti-v-obra
 nnem-prumyslu-v-jar\nPopis: \n\nOnline seminář k příležitostem a akc
 ím v obranném průmyslu v Jihoafrické republice\, pořádá Velvyslanec
 tví ČR v Pretorii v návaznosti na zrušenou českou participaci na jiho
 africkém obranném veletrhu AAD 2022\, a to dne 11. května od 10:00 do 1
 1:35 SEČ prostřednictvím platformy MS Teams. \nDavid Vaverka Head: Bot
 swana\, Eswatini\, Lesotho\, Namibia and South Africa Economic and Commerc
 ial Section   Embassy of the Czech Republic  936 Pretorius St\, 0083 Arcad
 ia\, Pretoria – South Africa  tel: +27 12 431 2389 | cell: +27 60 888 91
 16  e-mail: david_vaverka@mzv.czmzv.cz/pretoria facebook.com/EmbassyOfTheC
 zechRepublicInPretoria http://www.mzv.cz/public/a1/ff/75/1999643_1538751_m
 zv_cz_en_lg.png\n
URL:https://www.spcr.cz/online-seminar-prilezitosti-v-obrannem-prumyslu-v-j
 ar
DTSTART:20220511T100000
DTEND:20220511T120000
LOCATION:
END:VEVENT
END:VCALENDAR
