BEGIN:VCALENDAR
PRODID:-//eluceo/ical//2.0/EN
VERSION:2.0
CALSCALE:GREGORIAN
BEGIN:VEVENT
UID:c0942d6655a86d12200382153e70dc3c
DTSTAMP:20260423T173720Z
SUMMARY:Den se zemědělským diplomatem z USA
DESCRIPTION:Název akce: Den se zemědělským diplomatem z USA\nURL: https
 ://www.spcr.cz/den-se-zemedelskym-diplomatem-z-usa\nPopis: \n\nMinisterstv
 o zemědělství pro Vás organizuje DEN SE ZEMEDĚLSKÝM DIPLOMATEM Ve 
 Spojených státech amerických (USA) Ing. petrem Ježkem\nZVE VÁS TÍMT
 O NA ONLINE SETKÁNÍ (á 20 min) ve středu 27. 4. 2022 od 14 hod do 18 h
 od. SEČ.  Pozvánka zda.\nZemědělský diplomat Ing. Petr Ježek je př
 ipraven s Vámi prodiskutovat konkrétní témata\, která Vás z danéh
 o teritoria zajímají.\nINDIVIDUÁLNÍ KONZULTACE mají časovou dotaci 
 á 20 min\, proběhnou na platformě MS Teams. Účast je zdarma.\nV pří
 padě zájmu prosím pište do 25. 4. 2022 na email: zuzana.hercikova@mze
 .cz Vaše preferované časové rozmezí nebo volejte na tel. 221 812 868
 .\nPotvrzený termín schůzky a odkaz pro přihlášení Vám sdělíme e
 -mailem nejpozději do tří dnů od zaslání Vašeho požadavku.\n \n
URL:https://www.spcr.cz/den-se-zemedelskym-diplomatem-z-usa
DTSTART:20220427T140000
DTEND:20220427T180000
LOCATION:
END:VEVENT
END:VCALENDAR
