BEGIN:VCALENDAR
PRODID:-//eluceo/ical//2.0/EN
VERSION:2.0
CALSCALE:GREGORIAN
BEGIN:VEVENT
UID:b3234de7ea2f5aca8c9a7e836e39e814
DTSTAMP:20260423T130212Z
SUMMARY:Seminář: Alternativní trhy v kontextu ruské agrese vůči Ukraj
 ině – Jordánsko a Irák
DESCRIPTION:Název akce: Seminář: Alternativní trhy v kontextu ruské ag
 rese vůči Ukrajině – Jordánsko a Irák\nURL: https://www.spcr.cz/sem
 inar-alternativni-trhy-v-kontextu-ruske-agrese-vuci-ukrajine-jordansko-ira
 k\nPopis: \n\nZveme Vás na další ze série čtvrtečních seminářů M
 PO "Seminář: Alternativní trhy v kontextu ruské agrese vůči Ukrajin
 ě – Jordánsko a Irák".\nÚčast možná osobně i online.\nInformace 
 a registrace\nProgram semináře\n
URL:https://www.spcr.cz/seminar-alternativni-trhy-v-kontextu-ruske-agrese-v
 uci-ukrajine-jordansko-irak
DTSTART:20220421T100000
DTEND:20220421T120000
LOCATION:
END:VEVENT
END:VCALENDAR
