BEGIN:VCALENDAR
PRODID:-//eluceo/ical//2.0/EN
VERSION:2.0
CALSCALE:GREGORIAN
BEGIN:VEVENT
UID:7aa6e7cf1cfc15bf25acd8079b411f41
DTSTAMP:20260423T130412Z
SUMMARY:Online seminář: ITÁLIE – Ekologický přechod a zelené trendy
  - Příležitosti pro české firmy
DESCRIPTION:Název akce: Online seminář: ITÁLIE – Ekologický přechod
  a zelené trendy - Příležitosti pro české firmy\nURL: https://www.sp
 cr.cz/online-seminar-italie-ekologicky-prechod-zelene-trendy-prilezitosti-
 pro-ceske-firmy\nPopis: \n\nOnline seminář zaměřený na ekologické tr
 endy v ITÁLIE a z nich vyplývajících exportních příležitostí pro 
 české firmy\, s ředitelem zahraniční kanceláře CzechTrade v Itálii
 \, Markem Atanasčevem – ŽIVĚ.\nVíce informací a registrace\n
URL:https://www.spcr.cz/online-seminar-italie-ekologicky-prechod-zelene-tre
 ndy-prilezitosti-pro-ceske-firmy
DTSTART:20220427T100000
DTEND:20220427T113000
LOCATION:
END:VEVENT
END:VCALENDAR
