BEGIN:VCALENDAR
PRODID:-//eluceo/ical//2.0/EN
VERSION:2.0
CALSCALE:GREGORIAN
BEGIN:VEVENT
UID:6bc142db88292654748b8ea0409c823c
DTSTAMP:20260423T130819Z
SUMMARY:Online seminář: Aktuální situace a obchodní možnosti na PERU
 ÁNSKÉM trhu
DESCRIPTION:Název akce: Online seminář: Aktuální situace a obchodní m
 ožnosti na PERUÁNSKÉM trhu\nURL: https://www.spcr.cz/online-seminar-akt
 ualni-situace-obchodni-moznosti-na-peruanskem-trhu\nPopis: \n\nPraktické 
 informace pro české exportéry zajímající se o peruánský trh od ře
 ditele zahraniční kanceláře CzechTrade v Limě\, Martina Rossbacha\, a
  jeho hostů.\nVíce informací a registrace\n
URL:https://www.spcr.cz/online-seminar-aktualni-situace-obchodni-moznosti-n
 a-peruanskem-trhu
DTSTART:20220421T150000
DTEND:20220421T163000
LOCATION:
END:VEVENT
END:VCALENDAR
