BEGIN:VCALENDAR
PRODID:-//eluceo/ical//2.0/EN
VERSION:2.0
CALSCALE:GREGORIAN
BEGIN:VEVENT
UID:b342c300711d5e9fbcf22c9a9957f2f7
DTSTAMP:20260423T130412Z
SUMMARY:Online B2B Setkání s čínskými výrobci na téma ekologických 
 stavebních materiálů
DESCRIPTION:Název akce: Online B2B Setkání s čínskými výrobci na té
 ma ekologických stavebních materiálů\nURL: https://www.spcr.cz/online-
 b2b-setkani-s-cinskymi-vyrobci-na-tema-ekologickych-stavebnich-materialu\n
 Popis: \n\nSetkání je koncipované jako příležitost pro české a evr
 opské firmy seznámit se s čínskými výrobci zelených stavebních mat
 eriálů z oblasti provincie Jiangsu\, město Changzhou. Setkání proběh
 ne online přes platformu ZOOM\, jednacím jazykem je angličtina. Garante
 m akce je CCPIT (China Council for the Promotion of International Trade).
  \nMezi 2 hlavní uvedené kategorie ze strany čínských producentů pa
 tří:(1) Materiály: stavební materiály\, dekorativní dokončovací ma
 teriály\, speciální materiály atd.(2) Kategorie výrobků: keramika\, 
 sklo\, výrobky ze dřeva\, železářské výrobky\, výrobky pro chytrou
  domácnost\, nábytek\, výrobky z inteligentních stavebních materiál
 ů atd.\nOficiální pozvánku na akci naleznete ZDE. \nSeznam čínskýc
 h výrobců s kontaktními údaji\, certifikacemi a www odkazy naleznete 
 ZDE. \nPro registraci na akci kontaktujte uvedenou kontaktní osobu paní
  Yang Beibei\, mail: Yang@cieie.org.cn\n
URL:https://www.spcr.cz/online-b2b-setkani-s-cinskymi-vyrobci-na-tema-ekolo
 gickych-stavebnich-materialu
DTSTART:20220428T090000
DTEND:20220428T120000
LOCATION:
END:VEVENT
END:VCALENDAR
