BEGIN:VCALENDAR
PRODID:-//eluceo/ical//2.0/EN
VERSION:2.0
CALSCALE:GREGORIAN
BEGIN:VEVENT
UID:fb4ed6e7129b0b93f143763e54bd2220
DTSTAMP:20260423T130625Z
SUMMARY:Rumunsko a Bulharsko - příležitosti a podmínky podnikání pro 
 české firmy (Praha a Pardubice)
DESCRIPTION:Název akce: Rumunsko a Bulharsko - příležitosti a podmínky
  podnikání pro české firmy (Praha a Pardubice)\nURL: https://www.spcr.
 cz/rumunsko-bulharsko-prilezitosti-podminky-podnikani-pro-ceske-firmy-prah
 a-pardubice\nPopis: \n\nUpozorňujeme na konání semináře "Rumunsko a B
 ulharsko příležitosti a podmínky podnikání pro české firmy"\, kter
 ý se uskuteční ve středu dne 27. dubna 2022 od 10:30 SEČ v Praze v bu
 dově Ministerstva zahraničních věcí ČR a ve čtvrtek dne 28. dubna 
 2022 od 10:00 SEČ v Pardubicích.\nVíce v pozvánce\n
URL:https://www.spcr.cz/rumunsko-bulharsko-prilezitosti-podminky-podnikani-
 pro-ceske-firmy-praha-pardubice
DTSTART:20220427T103000
DTEND:20220428T100000
LOCATION:
END:VEVENT
END:VCALENDAR
