BEGIN:VCALENDAR
PRODID:-//eluceo/ical//2.0/EN
VERSION:2.0
CALSCALE:GREGORIAN
BEGIN:VEVENT
UID:365b0dcc25d5be8d87b67a2b821dfe5d
DTSTAMP:20260423T193618Z
SUMMARY:Jak odhalit "ruské stopy" v podnikání a najít majetek oligarch
 ů?
DESCRIPTION:Název akce: Jak odhalit "ruské stopy" v podnikání a najít 
 majetek oligarchů?\nURL: https://www.spcr.cz/jak-odhalit-ruske-stopy-v-po
 dnikani-najit-majetek-oligarchu\nPopis: \n\nKlub ukrajinských exportérů
  s YouControl vás zve na intenzivní webinář věnovaný analýze a meto
 dám odhalování „ruských stop“ v podnikání.\nNa webináři se doz
 víte:\n\njak získat spolehlivá data o podnicích SNS\, aniž byste muse
 li trávit čas žádostmi do státních registrů\;\njak najít ruská a 
 běloruská aktiva mimo tyto země\;\njak zpracovávat data\, která již 
 EU a USA používají\;\nanalyzovat spojení do úrovně 4\; jak je hlubok
 é?\;\njak kontrolovat uprchlíky a osoby se statusem dočasné ochrany\;\
 njak zkontrolovat spojení se sankcionovanými osobami nebo společnostmi 
 + případy.\n\nTéma bude zajímavá pro:\n\núředníky pro dodržován
 í předpisů\; specialisté na AML a KYC\; veřejné orgány a donucovac
 í orgány\; investigativní novináře.\n\nRegistrace na webinář je mo
 žná zde.\n \nV případě jakýchkoli dotazů neváhejte kontaktovat p
 římo organizátora webináře:Ukrainian Exporters Club\; t@people2people
 .com.ua\n
URL:https://www.spcr.cz/jak-odhalit-ruske-stopy-v-podnikani-najit-majetek-o
 ligarchu
DTSTART:20220426T113000
DTEND:20220426T123000
LOCATION:
END:VEVENT
END:VCALENDAR
