BEGIN:VCALENDAR
PRODID:-//eluceo/ical//2.0/EN
VERSION:2.0
CALSCALE:GREGORIAN
BEGIN:VEVENT
UID:1082b3b49d6a6f5a5331dd7e18fd0bf3
DTSTAMP:20260423T125705Z
SUMMARY:Seminář pro realizátory k NDICI-GE a IPA-III
DESCRIPTION:Název akce: Seminář pro realizátory k NDICI-GE a IPA-III\nU
 RL: https://www.spcr.cz/seminar-pro-realizatory-k-ndici-ge-ipa-iii\nPopis:
  \n\nDovolujeme si Vám předat pozvánku na seminář\, který v součinn
 osti s Evropskou komisí pořádá MZV pro realizátory z neziskového\, s
 oukromého i veřejného sektoru.\nProběhne seznámení s možnostmi real
 izaci projektů financovaných z nového nástroje vnější akce NDICI-Gl
 obal Europe i z nástroje předvstupní pomoci IPA-III\, včetně možnost
 i zapojení do Iniciativ Team Europe a strategie Global Gateway. Představ
 en bude také Partnership Portal pro vzájemné propojování realizátor
 ů a jejich řešení s donory a cílovými zeměmi\, a také manuál pro 
 realizaci projektů financovaných z IPA-III.\nPodrobné informace nalezne
 te v programu semináře.  Seminář proběhne hybridní formou 28. dubna 
 2022 od 9 do 16 hodin v prostorách MZV (max. 1 zástupce za organizaci) a
  on-line na MS Teams.   Potvrzení účasti (jméno\, organizace\, forma 
 účasti fyzická/on-line) uvítáme do 25. dubna formou zprávy na e-mail
  (kontakty: kristyna_valentova@mzv.cz\, jan_zdralek@mzv.cz\, opeu@mzv.cz\,
  ors@mzv.cz)\n
URL:https://www.spcr.cz/seminar-pro-realizatory-k-ndici-ge-ipa-iii
DTSTART:20220428T090000
DTEND:20220428T160000
LOCATION:
END:VEVENT
END:VCALENDAR
