BEGIN:VCALENDAR
PRODID:-//eluceo/ical//2.0/EN
VERSION:2.0
CALSCALE:GREGORIAN
BEGIN:VEVENT
UID:44bf5087b821abf9c2c19fd31f0bfcbe
DTSTAMP:20260423T145913Z
SUMMARY:Online setkání s tchaj-wanskými zástupci Garage+ a BE Health Ve
 ntures
DESCRIPTION:Název akce: Online setkání s tchaj-wanskými zástupci Garag
 e+ a BE Health Ventures\nURL: https://www.spcr.cz/online-setkani-s-tchaj-w
 anskymi-zastupci-garage-be-health-ventures\nPopis: \n\nAkce je určena př
 edevším pro startupy a firmy. Dostanou možnost získat informace o prog
 ramech\, které umožňují seznámit se lépe s tchajwanským trhem a tak
 é informace o výběrových řízeních do těchto programů.\nPředstave
 ní Garage+: Startup Global Program\n\n\n\n\nTopic\n\n\nStartup Global Pro
 gram Supports You to Discover Partners\, Investors & Asian Markets within 
 12 days!  \n\n\n\n\nContent\n\n\nGarage+\, Asia’s largest zero-equity i
 ncubator supported by the key players in the global supply chain\, has lau
 nched Startup Global Program\, supporting startups worldwide to meet with 
 top executives\, business partners\, and investors in Asia by running the 
 12-day program in Taipei\, Taiwan. The application is open for startups (S
 tage: Seed – Series B) in AI & Data Analysis\, IoT & Smart Devices\, Dig
 ital Health\, CarTech\, 5G Technology\, Robotics\, Smart Energy\, E-Mobili
 ty\, etc.    Since 2015\, SGP has invited more than 200 startups to disco
 ver business opportunities to explore the global market and scale-up ventu
 res. Over 1/3 of the fellow startups had obtained business partners\, inve
 stments\, or set up Taiwan branches through Epoch Foundation’s solid con
 nections. For example\, one of the fellows received a US$ 7.2M order from 
 a Japanese buyer\; another has developed more than 50 certified partners &
  customers from the 12-day program. (More Successful Cases)    Benefits f
 rom the 12-day program :  Ø 1-on-1 meetings with decision-makers from lea
 ding corporations and key players in the global supply chain\;  Ø Join th
 e tech exhibition for the opportunities of the market development\, invest
 ment\, and manufacturing\;  Ø Round-trip flight tickets subsidy and 12-da
 y accommodation for 2 people.    Join us right now to grab this excellent
  opportunity to explore the global market and scale up your ventures!  Ø 
 Website: https://www.garageplus.asia/en/sgp  Ø Get the Latest Information
  on SGP: https://www.surveycake.com/s/qb1PL\n\n\n\n\nPředstavení BE Heal
 th Ventures: nabídka 3 programů - Pozor\, na rozdíl od Garage+\, Be Hea
 lth Ventures se zaměřuje především na healthtech a medtech\, má výb
 orné napojení na nemocnice a konkrétní doktory\, poskytuje mentorství
 \, dokáže zprostředkovat přístup k medicínským datům\n1) BE Proof 
 Of Concept Program\nThe international program follows a 20 - 24 week curri
 culum for every stage startups\, looking for fundraising\, by verifying th
 e feasibility and market demand of their product.  The program recruits 1
  batch per year and we use Taiwan as their launchpad into the Asian market
 . The end goal of the program is to establish a technical verification and
  develop a sound business model in the hospital.\nProgram also offers conn
 ecting startups with the correct clinical departments to achieve specific 
 healthcare outcomes (Chronic Diseases\, Cardiovascular diseases\, Stroke a
 nd many others.. ).\n 2) Proof of Business\nProviding both financial and 
 non-financial resources for teams to thrive. Business validation : BE help
 s to conduct clinical study with hospital vendors. BE assists to engage wi
 th insurance company and strategic partners to validate business.\n3) BE G
 rowth Program\nACCELERATOR + FUND = INCREASED STARTUP VALUATION: A program
  that doesn't adhere to the traditional status quo. Extended Duration Acce
 ss to Funding Hospital Resource Asian Market Focus\, Milestone-Based Mento
 r Network Office Space\, Program timeline that is more conducive to succes
 s within the healthcare space. Guaranteed initial investment\, with access
  to follow on funding. Direct access to hospital resources for clinical tr
 ails and pilot sites. Unique insights and network that is centered around 
 the Asian market. Program resources that are exclusively tailored for heal
 thcare. Helping teams achieve specific objectives in order to expand their
  market. One-to-one guidance from healthcare and Biodesign experts. 24/7 a
 ccess to secure coworkspace and meeting room facilities\nAkce se uskutečn
 í příští čtvrtek 21. dubna od 8 hodin SEČ. V první části vystoup
 í tedy zástupci Garage+ a BE Health Ventures a dále bude dán prostor p
 ředevším Vám pro diskuzi a Vaše otázky.\n V případě Vašeho záj
 mu o účast se  nahlaste na kontakt níže do příštího úterý - 19.
 4. Pozvánku můžete rozšířit mezi Vaše kolegy či potencionální z
 ájemce.\nMarie LEFLEROVA / 來玉凊  Head of Science &Technology Section
  7F-B\, No. 200\, Keelung Rd.\, Sec. 1\, Taipei 11071  Tel.: +886-2-272251
 00\, ext. 20  E-mail: Marie_Leflerova@mzv.cz\n
URL:https://www.spcr.cz/online-setkani-s-tchaj-wanskymi-zastupci-garage-be-
 health-ventures
DTSTART:20220421T080000
DTEND:20220421T120000
LOCATION:
END:VEVENT
END:VCALENDAR
