BEGIN:VCALENDAR
PRODID:-//eluceo/ical//2.0/EN
VERSION:2.0
CALSCALE:GREGORIAN
BEGIN:VEVENT
UID:4288f58b471771c0b2684939b867e468
DTSTAMP:20260423T125705Z
SUMMARY:Webinář zaměřený na význam průmyslových práv 
DESCRIPTION:Název akce: Webinář zaměřený na význam průmyslových pr
 áv \nURL: https://www.spcr.cz/webinar-zamereny-na-vyznam-prumyslovych-pra
 v\nPopis: \n\nVelvyslanectví ČR v Dillí ve spolupráci s Úřadem prům
 yslového vlastnictví (ÚPV) a European Business and Technology Center (E
 BTC) pořádá dne 12. dubna 2022 v 10 CEST (13.30 IST) webinář zaměře
 ný na význam průmyslových práv při podnikání v ČR a EU a jejich v
 yužití při internacionalizaci malých a středních podniků na zahrani
 čních trzích jako je Indie.   Na webináři kromě představitelů ÚPV
  a EBTC - European Business and Technology Centre\, který realizuje proje
 kt financovaný z evropských fondů s názvem India IP SME Helpdesk - vys
 toupí obchodní a ekonomický rada české ambasády\, který představí
  indický trh\, zajímavé sektory a úspěchy českých firem. Obchodní 
 rada dále podá základní informace o programu PROPEA\, který je na če
 ském velvyslanectví v Dillí realizován\, a který má za cíl podpoři
 t trvalejší účast českých firem na indickém trhu\, případně pomo
 ci českým firmám minimalizovat rizika při vstupu na indický trh při 
 založení pobočky nebo zahájení výroby.   Více informací o tomto se
 mináři včetně možnosti přihlášení  naleznete na stránkách (ÚP
 V): https://upv.gov.cz/aktuality/akce/seminare/12-4-online-seminar-podnika
 ni-v-indii-s-ohledem-na-ochranu-prumyslovych-prav.   Velvyslanectví Česk
 é republiky v Novém Dillí zve všechny zájemce srdečně k účasti na
  tomto zajímavém webináři. \nMgr. Jakub Jaroš obchodně-ekonomický r
 ada/Economic & Commercial Counsellor\nVelvyslanectví ČR v Dillí Embassy
  of the Czech Republic 50-M\, Niti Marg\, Chanakyapuri New Delhi - 110 021
  India\nWeb: https://www.mzv.cz/newdelhi Twitter: https://twitter.com/CZin
 India Facebook: https://www.fb.com/czech.embassy.newdelhi\nTel.:   +91 1
 1 24 155 252\, +91 11 24 155 203\, +91 11 24 155 200  Email: jakub_jaros@m
 zv.cz" moz-do-not-send="true">jakub_jaros@mzv.cz\n
URL:https://www.spcr.cz/webinar-zamereny-na-vyznam-prumyslovych-prav
DTSTART:20220412T100000
DTEND:20220412T120000
LOCATION:
END:VEVENT
END:VCALENDAR
