BEGIN:VCALENDAR
PRODID:-//eluceo/ical//2.0/EN
VERSION:2.0
CALSCALE:GREGORIAN
BEGIN:VEVENT
UID:0d8db560c5da11b21dcbe2a38ebf16eb
DTSTAMP:20260423T130412Z
SUMMARY:ROBOTY 2022: Je dobrý čas na investice?
DESCRIPTION:Název akce: ROBOTY 2022: Je dobrý čas na investice?\nURL: ht
 tps://www.spcr.cz/roboty-2022-je-dobry-cas-na-investice\nPopis: \n\nZúča
 stněte se druhé části odborného setkání o trendech v robotice\, ale
  hlavně komplexně o změnách v průmyslu se v hybridním formátu stěh
 uje opět do Brna. V termínu 21. a 22. dubna bude pokračovat tam\, kde s
 končila při svém prvním únorovém zastavení. Bude hledat odpovědi n
 a otázky\, které u řady manažerů průmyslových firem nyní musí nut
 né vyvstávat. Jednou z nich bezesporu je\, zda je nyní čas na další 
 investice do robotiky a přidružených technologií. Odpověď organizát
 orů z ní. Nikdy nebyl důležitější čas na změnu a sázku na automa
 tizaci.\nHybridní formát akce umožní nejen účast na klasické konfer
 enci\, která nabídne kromě bohatého odborného programu\, ale také do
 provodnou výstavu technologií\, doprovodné workshopy či prémiový net
 working.\n\nPodrobnosti o konferenci a registrace zde\n\nČlenové Svazu p
 růmyslu a dopravy ČR mohou využít slevu 1000 Kč - při registraci je 
 nutné uvést do kolonky poznámky požadavek na slevu jako člen SPČR.\n
URL:https://www.spcr.cz/roboty-2022-je-dobry-cas-na-investice
DTSTART:20220421T000000
DTEND:20220422T235959
LOCATION:
END:VEVENT
END:VCALENDAR
