BEGIN:VCALENDAR
PRODID:-//eluceo/ical//2.0/EN
VERSION:2.0
CALSCALE:GREGORIAN
BEGIN:VEVENT
UID:3ef9d5a05ba542fcc27f4126f51bd54d
DTSTAMP:20260423T193543Z
SUMMARY:HOT HOT HOT. Sklo\, keramika a porcelán od A po Z
DESCRIPTION:Název akce: HOT HOT HOT. Sklo\, keramika a porcelán od A po Z
 \nURL: https://www.spcr.cz/hot-hot-hot-sklo-keramika-porcelan-od-po-z\nPop
 is: \n\nPřijďte na výstavu\, která představí české sklo\, keramiku
  a porcelán ve všech svých podobách od surovin a polotovarů po hotov
 é výrobky a umělecká díla\, od unikátní a ruční výroby po automa
 tickou produkci\, mající nejen bohatou tradici\, ale zejména pozoruhodn
 ou současnost a zajímavou budoucnost. \nVýstavu připravuje Národní 
 technické muzeum díky spolupráci s Asociací sklářského a keramické
 ho průmyslu ČR a Muzeem skla a bižuterie v Jablonci nad Nisou.K výstav
 ě bude připraven doprovodný program. 1. května 2022 se bude konat „D
 en sklářů a keramiků“ s bohatou nabídkou pro návštěvníky muzea\
 , kde budou atraktivní častí programu např. ukázky technologie výrob
 y skla.\nTisková konference při příležitosti otevření výstavy prob
 ěhne 13. dubna od 10:00 v prostorách NTM v Praze. Novináře prosíme o 
 potvrzení jejich účasti do pondělí 11. dubna 2022 na adrese jana.dobi
 sikova@ntm.cz.\n
URL:https://www.spcr.cz/hot-hot-hot-sklo-keramika-porcelan-od-po-z
DTSTART:20220414T000000
DTEND:20221002T235959
LOCATION:
END:VEVENT
END:VCALENDAR
