BEGIN:VCALENDAR
PRODID:-//eluceo/ical//2.0/EN
VERSION:2.0
CALSCALE:GREGORIAN
BEGIN:VEVENT
UID:5433796107d28c080249da1766f400e9
DTSTAMP:20260423T162819Z
SUMMARY:NEXT 3D: Inovace díky 3D tisku
DESCRIPTION:Název akce: NEXT 3D: Inovace díky 3D tisku\nURL: https://www.
 spcr.cz/next-3d-inovace-diky-3d-tisku\nPopis: \n\nZveme vás na konferenci
  NEXT 3D: Inovace díky 3D tisku\, která staví na zajímavých řeční
 cích přímo z praxe.\nNikdo nezná skutečné možnosti 3D tisku a 3D sk
 enování lépe než ti\, kdo už moderní technologie naplno využívají
  v průmyslu a výrobě\, výzkumu a vývoji. Setkání\, které klade dů
 raz na vzájemnou výměnu zkušeností\, proběhne 26. května v příjem
 ném prostředí humpoleckého Fabrika Hotelu (hned u D1) pod záštitou S
 vazu průmyslu a dopravy a s jeho viceprezidentem Radkem Špicarem s úvod
 ním slovem.\n3D tisk se už v řadě oblastí osvědčil jako plnohodnotn
 á výrobní technologie. V době překvapení a nejistot celosvětového 
 rozsahu se navíc ukázal být nepostradatelným nástrojem umožňující
 m rychle reagovat na měnící se poptávku uvnitř firmy i na požadavky 
 vysoce konkurenčního trhu. Jak lze díky aditivní výrobě rychleji a l
 evněji přinášet na trh lépe přizpůsobené výrobky\, ukážou řeč
 níci přímo z českých firem.\nNEXT 3D slibuje nabídnout dostatek pros
 toru nejen pro inspiraci\, ale i pro zrod důležitých partnerství. Krom
 ě 3D tisku – od stolního až po průmyslový a produkční – se věn
 uje také stále dostupnějšímu\, přesnému 3D skenování. Součástí
  celodenního programu bude mj. možnost vyhrát profesionální 3D tiská
 rnu. K účasti nás srdečně zvou pořadatelé ze společností 3Dwiser 
 a Admasys International.\n\nVíce informací a registrace zde\n
URL:https://www.spcr.cz/next-3d-inovace-diky-3d-tisku
DTSTART:20220526T090000
DTEND:20220526T163000
LOCATION:
END:VEVENT
END:VCALENDAR
