BEGIN:VCALENDAR
PRODID:-//eluceo/ical//2.0/EN
VERSION:2.0
CALSCALE:GREGORIAN
BEGIN:VEVENT
UID:8b6f97b7ea7a0ea84ce94de8f715a6bf
DTSTAMP:20260423T163117Z
SUMMARY:11. ročník Sarajevo Business Forum
DESCRIPTION:Název akce: 11. ročník Sarajevo Business Forum\nURL: https:/
 /www.spcr.cz/11-rocnik-sarajevo-business-forum\nPopis: \n\nPozvánka na 11
 . ročník Sarajevo Business ForumSarajevo Business Forum je největší o
 bchodní konference v Bosně a Hercegovině. Tématem letošního ročník
 u je "nearshoring"\, což je téma\, které je z hlediska Bosny a Hercegov
 iny poměrně aktuální (místní firmy se dokáží úspěšně zapojova
 t do dodavatelských řetězců v oborech jako je výroba automobilových 
 součástek\, strojírenství\, elektrotechnický průmysl či textilní p
 růmysl). Hlavním pořadatelem je místní banka BBI. Spolupořadatelem j
 e Ministerstvo zahraničních věcí Bosny a Hercegoviny.\nVíce informac
 í o konferenci je k dispozici na webu www.sarajevobusinessforum.com/en/.
  \n
URL:https://www.spcr.cz/11-rocnik-sarajevo-business-forum
DTSTART:20220511T000000
DTEND:20220512T235959
LOCATION:
END:VEVENT
END:VCALENDAR
