BEGIN:VCALENDAR
PRODID:-//eluceo/ical//2.0/EN
VERSION:2.0
CALSCALE:GREGORIAN
BEGIN:VEVENT
UID:6d56fee2c64387d793afb8dcb23f30b4
DTSTAMP:20260423T125940Z
SUMMARY:SEMINÁŘ: JAK USPĚT NA ŠPANĚLSKÉM TRHU
DESCRIPTION:Název akce: SEMINÁŘ: JAK USPĚT NA ŠPANĚLSKÉM TRHU\nURL: 
 https://www.spcr.cz/seminar-jak-uspet-na-spanelskem-trhu\nPopis: \n\nPozv
 ánka na seminář "JAK USPĚT NA ŠPANĚLSKÉM TRHU"\n
URL:https://www.spcr.cz/seminar-jak-uspet-na-spanelskem-trhu
DTSTART:20220412T000000
DTEND:20220413T235959
LOCATION:
END:VEVENT
END:VCALENDAR
