BEGIN:VCALENDAR
PRODID:-//eluceo/ical//2.0/EN
VERSION:2.0
CALSCALE:GREGORIAN
BEGIN:VEVENT
UID:36424531e69b00663de0a00ace529feb
DTSTAMP:20260423T213618Z
SUMMARY:Online seminář: Jak úspěšně působit na trzích SAE a TURECKA
DESCRIPTION:Název akce: Online seminář: Jak úspěšně působit na trz
 ích SAE a TURECKA\nURL: https://www.spcr.cz/online-seminar-jak-uspesne-pu
 sobit-na-trzich-sae-turecka-0\nPopis: \n\nExportní online seminář zamě
 řený na novinky na trzích Spojených arabských emirátů a Turecka s 
 řediteli zahraničních kanceláří CzechTrade\, Vladislavem Poláchem (
 SAE) a Michalem Nedělkou (Turecko) – ŽIVĚ.Anotace:\n\nSouhrnné infor
 mace o obou zemích\nEkonomická situace a další předpokládaný vývoj
 \nAktuální exportní možnosti v SAE a Turecku\nObory s největším pot
 enciálem\nJak na hledání obchodních partnerů – specifika daných tr
 hů\nRADY a TIPY + plánované akce 2022/2023\nSlužby CzechTrade pro expo
 rtéry\nOtázky a Odpovědi\n\nNa seminář je nutné se předem zaregistr
 ovat zde. \n
URL:https://www.spcr.cz/online-seminar-jak-uspesne-pusobit-na-trzich-sae-tu
 recka-0
DTSTART:20220428T100000
DTEND:20220428T113000
LOCATION:
END:VEVENT
END:VCALENDAR
