BEGIN:VCALENDAR
PRODID:-//eluceo/ical//2.0/EN
VERSION:2.0
CALSCALE:GREGORIAN
BEGIN:VEVENT
UID:defa108d2ad4bcfc194938a745b64995
DTSTAMP:20260423T130228Z
SUMMARY:Alternativní trhy v kontextu ruské agrese proti Ukrajině – zá
 padní Balkán a Turecko
DESCRIPTION:Název akce: Alternativní trhy v kontextu ruské agrese proti 
 Ukrajině – západní Balkán a Turecko\nURL: https://www.spcr.cz/altern
 ativni-trhy-v-kontextu-ruske-agrese-proti-ukrajine-zapadni-balkan-turecko\
 nPopis: \n\nDovolujeme si Vás pozvat na seminář "Alternativní trhy v 
 kontextu ruské agrese proti Ukrajině – západní Balkán a Turecko“\
 , kterou ve spolupráci s dalšími partnery pořádá MPO\, Sekce zahrani
 čního obchodu a EU. Akce se bude konat hybridně ve čtvrtek 31. 3. 2022
  od 14:00 do 16:00 na MS TEAMS a v hlavní budově MPO na adrese Na Frant
 išku 32\, Praha 1.\nJde o pátý příspěvek do série exportních semin
 ářů MPO v kontextu ruské agrese vůči Ukrajině „Ve čtvrtek od dvo
 u do čtyř“.\nRegistrace pro tento seminář je k dispozici na webové
  adrese: https://www.mpo.cz/udalost461.html. Do kolonky „poznámka“ je
  potřeba uvést\, zda se budete účastnit fyzicky\, nebo on-line. \nUpoz
 orňujeme\, že fyzická kapacita prostor akce je omezena na 40 osob. V p
 řípadě on-line registrace dostanete na Váš e-mail link pro připojen
 í nejpozději v den konání akce.\nVystupující:\n\nPavel Daněk\, ved
 oucí obchodně ekonomického úseku\, ZÚ Ankara\nRené Daněk\, vedoucí
  obchodně-ekonomického oddělení\, Generální konzulát Istanbul\nMiro
 slav Čančík\, Obchodní rada\, ZÚ Bělehrad (TBC)\nDavid Černohorský
 \, Obchodní rada\, ZÚ Skopje\nOndřej Picka\, Obchodní rada\, ZÚ Saraj
 evo (TBC)\nIzudin Gušmirovic\, regionální ředitel\, CzechTrade Podgori
 ca (TBC)\nRadek Jakubský\, viceprezident\, Hospodářská komora ČR\nŠt
 ěpán Kolanda\, zástupce ředitele Odboru pojištění vývozních úvě
 rů a investic\, EGAP (TBC)\n\nAkci moderuje Martin Pospíšil\, ředitel 
 Odboru zahraničně ekonomických politik I.\, MPO. \n
URL:https://www.spcr.cz/alternativni-trhy-v-kontextu-ruske-agrese-proti-ukr
 ajine-zapadni-balkan-turecko
DTSTART:20220331T140000
DTEND:20220331T160000
LOCATION:
END:VEVENT
END:VCALENDAR
