BEGIN:VCALENDAR
PRODID:-//eluceo/ical//2.0/EN
VERSION:2.0
CALSCALE:GREGORIAN
BEGIN:VEVENT
UID:defb27c1ee46e689dd792cf54d7282c2
DTSTAMP:20260423T163202Z
SUMMARY:Nástroje Horizont Evropa pro firmy
DESCRIPTION:Název akce: Nástroje Horizont Evropa pro firmy\nURL: https://
 www.spcr.cz/nastroje-horizont-evropa-pro-firmy\nPopis: \n\nTechnologické 
 centrum AV ČR vás zve na školící webinář\, jehož cílem je přibl
 ížit nástroj EIC Accelerator: principy a pravidla podpory\, hlavní dok
 umenty pro žadatele\, zkušenost se zpracováním žádosti\, které nov
 ě probíhá v několika krocích prostřednictvím interaktivní on-line 
 platformy a v neposlední řadě zkušenost úspěšného žadatele s proc
 esem hodnocení a dalšími aspekty.\nEIC Accelerator je zaměřen výhrad
 ně na podporu podniků usilujících o mezinárodní komerční uplatněn
 í vysoce rizikového inovačního řešení s potenciálem výrazného do
 padu na růst podniku (scale-up) a fungování trhu\, tzv. high-risk\, hig
 h-potential. Registrujte se do 3. dubna.\nPodrobnobný program a registrac
 e zde.\n
URL:https://www.spcr.cz/nastroje-horizont-evropa-pro-firmy
DTSTART:20220405T100000
DTEND:20220405T130000
LOCATION:
END:VEVENT
END:VCALENDAR
