BEGIN:VCALENDAR
PRODID:-//eluceo/ical//2.0/EN
VERSION:2.0
CALSCALE:GREGORIAN
BEGIN:VEVENT
UID:a419f42b1a128673778bd42eb163daf5
DTSTAMP:20260423T150245Z
SUMMARY:Podnikatelská mise do USA
DESCRIPTION:Název akce: Podnikatelská mise do USA\nURL: https://www.spcr.
 cz/podnikatelska-mise-do-usa-0\nPopis: \n\nSvazu průmyslu a dopravy zve k
  účasti v podnikatelské misi do USA s předsedou Senátu Parlamentu Č
 R Milošem Vystrčilem ve dnech 2. až 8. června 2022. Podnikatelskou d
 elegaci povede viceprezidentka Svazu průmyslu a dopravy ČR Milena Jabůr
 ková.\nPodle předběžného rámcového programu navštíví podnikatels
 ká delegace Washington\, D.C. a Chicago. Svaz průmyslu a dopravy ČR zor
 ganizuje ve spolupráci s Velvyslanectvím ČR ve Washingtonu a Generál
 ním konzulátem ČR v Chicagu podnikatelské a networkingové semináře
  a další program.\nRámcový program:Čtvrtek 2. června - odlet do Chic
 agaPátek 3. června - program v Chicagu – podnikatelský seminář a ne
 tworking s místními firmami a další program\, ve spolupráci s Gener
 álním konzulátem ČR v ChicaguSobota 4. června - pobyt v ChicaguNeděl
 e 5. června - odlet do Washingtonu D.C.Pondělí 6. června - program ve 
 WDC - podnikatelská akce a recepce na Velvyslanectví ČRÚterý 7. červ
 na - večer odlet do ČRStředa 8. června - přílet do Prahy\nÚčast v
  delegaci doporučujeme zejména firmám z oborů s vysokým podílem v
 ývoje a přidanou hodnotou jako ICT\, alternativní zdroje energie\, níz
 kouhlíkové technologie\, pokročilé technologie\, nanotechnologie\, př
 esné strojírenství\, letectví a automobilový průmysl a elektromobili
 ta\, ale také zdravotnický a farmaceutický průmysl.  \nUzávěrka z
 ávazných přihlášek je ve čtvrtek 8. dubna 2022.\nZálohová cena za
  účast v podnikatelské delegaci je pro členské firmy SP ČR  56 00
 0\,- Kč\, pro nečlenské subjekty59 000\,- Kč a zahrnuje ubytování 
 v hotelích\, místní transfery\, společenské akce\, zápis do oficiá
 lního katalogu mise a náklady spojené s přípravou cesty a službami 
 pracovníka SP ČR během cesty (přeprava vládním speciálem je zdarma)
 .\nZávaznou podepsanou a naskenovanou přihlášku prosíme zaslat e-mail
 em na adresu stancevova@spcr.cz. Současně s přihláškou je nutné v
 yplnit i elektronický formulář\, který naleznete na této adrese: ht
 tps://registrace.spcr.cz/Register. Bez vyplnění elektronického formul
 áře nemůžeme Vaši přihlášku zpracovat.\nProsíme také o vyplněn
 í jednoho snímku v Powerpointu\, který bude součástí společné PP
 T prezentace\, a která bude sloužit pro představení delegace na podnik
 atelských seminářích.Dále prosíme o zaslání skenu pasu\, minimál
 ní platnost pasu musí být 6 měsíců od data vstupu do USA. Pokud jde 
 o vstup do USA\, tak prezident USA vyhlásil globální požadavek na oč
 kování pro všechny dospělé cizince\, kteří nejsou přistěhovalci 
 a cestují letecky do Spojených států. Vzhledem k tomu\, že budeme ce
 stovat vládním letadlem\, nebude možné vstoupit do země s registrací
  ESTA\, ale bude nutné žádat o vízum. Instrukce k postupu obdržíte
  po registraci.\nPodnikatelskou misi organizačně zajišťuje manažerka 
 Sekce mezinárodních vztahů Mgr. Sabina Tančevová. Bližší informace
  Vám poskytneme na tel. 225 279 402.\n
URL:https://www.spcr.cz/podnikatelska-mise-do-usa-0
DTSTART:20220602T000000
DTEND:20220608T235959
LOCATION:
END:VEVENT
END:VCALENDAR
