BEGIN:VCALENDAR
PRODID:-//eluceo/ical//2.0/EN
VERSION:2.0
CALSCALE:GREGORIAN
BEGIN:VEVENT
UID:12ae11ca1921131a673af4d40b99522a
DTSTAMP:20260423T130400Z
SUMMARY:Konzultace s ekonomickými diplomaty a vedoucími zahraničních ka
 nceláří CzechTrade
DESCRIPTION:Název akce: Konzultace s ekonomickými diplomaty a vedoucími 
 zahraničních kanceláří CzechTrade\nURL: https://www.spcr.cz/konzultac
 e-s-ekonomickymi-diplomaty-vedoucimi-zahranicnich-kancelari-czechtrade\nPo
 pis: \n\nPozvánka a registrace na akci již zveřejněna.\nTěšíme se n
 a Vás.\n
URL:https://www.spcr.cz/konzultace-s-ekonomickymi-diplomaty-vedoucimi-zahra
 nicnich-kancelari-czechtrade
DTSTART:20220609T083000
DTEND:20220610T163000
LOCATION:
END:VEVENT
END:VCALENDAR
