BEGIN:VCALENDAR
PRODID:-//eluceo/ical//2.0/EN
VERSION:2.0
CALSCALE:GREGORIAN
BEGIN:VEVENT
UID:a914b2b828c6bfaedbcb18b636869c4e
DTSTAMP:20260423T150508Z
SUMMARY:Seminar Martin
DESCRIPTION:Název akce: Seminar Martin\nURL: https://www.spcr.cz/seminar-m
 artin\nPopis: \n\npokusny text\n
URL:https://www.spcr.cz/seminar-martin
DTSTART:20220325T000000
DTEND:20220330T235959
LOCATION:
END:VEVENT
END:VCALENDAR
