BEGIN:VCALENDAR
PRODID:-//eluceo/ical//2.0/EN
VERSION:2.0
CALSCALE:GREGORIAN
BEGIN:VEVENT
UID:3ccaa1dc9649e576adec829fc4d29e45
DTSTAMP:20260423T125212Z
SUMMARY:seminář Katka
DESCRIPTION:Název akce: seminář Katka\nURL: https://www.spcr.cz/seminar-
 katka\nPopis: \n\nMůj seminář\n
URL:https://www.spcr.cz/seminar-katka
DTSTART:20220325T000000
DTEND:20220325T235959
LOCATION:
END:VEVENT
END:VCALENDAR
