BEGIN:VCALENDAR
PRODID:-//eluceo/ical//2.0/EN
VERSION:2.0
CALSCALE:GREGORIAN
BEGIN:VEVENT
UID:fb8bbe8fc1b87bb33e44d0560e199779
DTSTAMP:20260423T163304Z
SUMMARY:IBM Technology for 2022
DESCRIPTION:Název akce: IBM Technology for 2022\nURL: https://www.spcr.cz/
 ibm-technology-2022\nPopis: \n\nZveme vás pozvali na jarní akci “IBM T
 echnology for 2022” s podtitulem Let’s create. Pojďme si společně 
 vyzkoušet\, jak kreativní přístup\, odborné znalostia technologie dok
 ážou posunout podnikání.\nPřijďte se inspirovat\, jak vám mohou IBM
  technologie pomoci realizovat vaše nápady.\nTěšit se můžete na té
 mata:\n\nSynergie IBM Power Systems a IBM FlashSystems\nJak (ú)spěšně 
 adoptovat cloud\nModerní přístup k AIOps – Instana a Turbonomic\nData
  Fabric – zjednodušený přístup k datům\nModerní přístup k řeše
 ní kybernetických bezpečnostních hrozeb\nSAP v IBM Cloudu\n\nPodrobný
  program zde.\nZaregistrujte se do 28. března.  30. března od 9:00 hodi
 n se budeme těšit na osobní setkání s vámi ve Spojce Karlín v Praz
 e anebo virtuálně. Jakou formu setkání si vyberete\, je jen na vás.\
 n
URL:https://www.spcr.cz/ibm-technology-2022
DTSTART:20220330T090000
DTEND:20220330T140000
LOCATION:
END:VEVENT
END:VCALENDAR
