BEGIN:VCALENDAR
PRODID:-//eluceo/ical//2.0/EN
VERSION:2.0
CALSCALE:GREGORIAN
BEGIN:VEVENT
UID:8262be98e64b72c4aa62ef4b4735f841
DTSTAMP:20260423T150133Z
SUMMARY:Lex Ukrajina
DESCRIPTION:Název akce: Lex Ukrajina\nURL: https://www.spcr.cz/lex-ukrajin
 a\nPopis: \n\nSP ČR vás vzhledem k účinnosti nového zákona „Lex Uk
 rajina“ zve na online diskuzi\, ve které budete mít možnost ptát se 
 zástupců státní správy na otázky související s výše uvedeným. D
 iskutovat se budou témata: vízová povinnost\, ubytování\, trh práce 
 aj.\nRÁMCOVÝ PROGRAM\n\n14.00 Zahájení\n14.10 – 15.10 Vystoupení z
 ástupce MV ČR + diskuze\n15.10 – 16.10 Vystoupení zástupců MPSV + d
 iskuze\n\nVýše uvedené časy jsou jen orientační.\nREGISTRACE\n\nRegi
 strujte se prosím přes online formulář do čtvrtka 24. 3. do 12:00. Po
  registraci obdržíte link na připojení k diskuzi.\n\nV případě dota
 zů kontaktujte Mgr. Terezu Hejlovou (thejlova@spcr.cz) nebo Lenku Čechov
 ou (lcechova@spcr.cz).\n
URL:https://www.spcr.cz/lex-ukrajina
DTSTART:20220324T140000
DTEND:20220324T161000
LOCATION:
END:VEVENT
END:VCALENDAR
