BEGIN:VCALENDAR
PRODID:-//eluceo/ical//2.0/EN
VERSION:2.0
CALSCALE:GREGORIAN
BEGIN:VEVENT
UID:d89982ece9e583ebc93eaaf76e7b0857
DTSTAMP:20260423T125850Z
SUMMARY:Pozvánka na konferenci Market Access Day
DESCRIPTION:Název akce: Pozvánka na konferenci Market Access Day\nURL: ht
 tps://www.spcr.cz/pozvanka-na-konferenci-market-access-day\nPopis: \n\nFra
 ncouzské Minsterstvo pro Evropu a zahraniční věci si Vás dovoluje poz
 vat na další konferenci «Market Access Day - 3rd edition » francouzs
 kého zplnomocněného ministra při ministru zahraničních věcí\, Fran
 cka Riestera\, která se uskuteční dne 4. dubna 2022 v Paříži a též
  bude přenášena online.\nTřetí ročník Market Access Day bude věnov
 án propagaci obchodních dohod EU a jejich provádění pro podniky. Po p
 ředstavení evropského toolboxu budou moci firmy rok po Brexitu zhodnoti
 t situaci se Spojeným královstvím a poté se dozvědět více o dohodá
 ch s Japonskem\, Jižní Koreou a Vietnamem. Exportním společnostem budo
 u během konference k dispozici zástupci Generálního ředitelství pro 
 obchod Evropské komise\, administrativy\, profesních federací a člensk
 ých států. Specializovaný workshop také umožní společnostem dozvě
 dět se více o nástrojích na ochranu obchodu.\nBěhem konference se doz
 víte odpovědi na následující dotazy:Jsou společnosti obeznámeny s o
 bchodními dohodami EU? Kde mohou najít všechny informace\, které potř
 ebují k exportu v příznivém podnikatelském prostředí? Co vám můž
 e evropský soubor nástrojů nabídnout? Jak by se měly firmy připravit
  před exportem a co by měly vědět\, než vstoupí na nový trh? Kdo v
 ám může pomoci?Jak se můžeme na našich vlastních trzích chránit p
 řed nekalými a zneužívajícími praktikami?\nProgram a možnost regist
 race k dispozici zde.Deadline pro registraci je 30. března 2022.\n \n
URL:https://www.spcr.cz/pozvanka-na-konferenci-market-access-day
DTSTART:20220404T090000
DTEND:20220404T180000
LOCATION:
END:VEVENT
END:VCALENDAR
