BEGIN:VCALENDAR
PRODID:-//eluceo/ical//2.0/EN
VERSION:2.0
CALSCALE:GREGORIAN
BEGIN:VEVENT
UID:0665d1d46b8322de028777716f80d785
DTSTAMP:20260423T172743Z
SUMMARY:Seminář o podnikání v Rakousku (Brno)
DESCRIPTION:Název akce: Seminář o podnikání v Rakousku (Brno)\nURL: ht
 tps://www.spcr.cz/seminar-o-podnikani-v-rakousku-brno\nPopis: \n\nPřemý
 šlíte o možnostech podnikání v Rakousku?Chtěli byste se dozvědět v
 íce o zdejším trhu\, výhodách\, příležitostech či finanční podp
 oře pro zahraniční firmy? Chtěli byste si osobně popovídat se zástu
 pci rakouské státní agentury na podporu podnikání? Využijte možnost
 i zúčastnit se naší informační schůzky\, na níž Vám rakouští e
 xperti prozradí\, proč je založení podniku v Rakousku tou správnou vo
 lbou!  Kromě příležitosti načerpat mnoho zajímavých a užitečných
  informací Vám budou rakouští experti k dispozici také pro individuá
 lní rozhovory.  Přijďte se dozvědět více na naši akci Business Loca
 tion AUSTRIA | Zaměřeno na spolkovou zemi Dolní Rakousko Datum: 28. dub
 na 2022\, 14:30 - 17:00 hodinMísto: CLUBCO\, Vlněna 5\, 602 00 Brno Dal
 ší informace a přihláška: zde Účast na akci je zdarma. Můžete se 
 podívat na krátké video z našeho minulého semináře.\n
URL:https://www.spcr.cz/seminar-o-podnikani-v-rakousku-brno
DTSTART:20220428T143000
DTEND:20220428T170000
LOCATION:
END:VEVENT
END:VCALENDAR
