BEGIN:VCALENDAR
PRODID:-//eluceo/ical//2.0/EN
VERSION:2.0
CALSCALE:GREGORIAN
BEGIN:VEVENT
UID:a5e21431683f9fde312a157c4751be00
DTSTAMP:20260423T162802Z
SUMMARY:Seminář: Možnosti ukončení podnikání v Ruské federaci a Bě
 lorusku
DESCRIPTION:Název akce: Seminář: Možnosti ukončení podnikání v Rusk
 é federaci a Bělorusku\nURL: https://www.spcr.cz/seminar-moznosti-ukonce
 ni-podnikani-v-ruske-federaci-belorusku\nPopis: \n\nZveme vás na seminá
 ř „Možnosti ukončení podnikání v Ruské federaci a Bělorusku“\,
  který ve spolupráci s dalšími partnery pořádá MPO\, Sekce zahrani
 čního obchodu a EU. Akce se bude konat hybridně ve čtvrtek 17. 3. 2022
  od 14:00 do 16:00 na MS TEAMS a v hlavní budově MPO na adrese Na Frant
 išku 32\, Praha 1.\nJde o třetí akci ze série exportních seminářů 
 MPO v kontextu ruské agrese vůči Ukrajině „Ve čtvrtek od dvou do č
 tyř“.\nRegistrace pro tento seminář (a všechny budoucí semináře z
  této série) je k dispozici na webové adrese: https://www.mpo.cz/udal
 ost459.html. \nI nadále se pak můžete registrovat pomocí e-mailové ad
 resy viktora@mpo.cz. V tomto případě prosíme o uvedení jména\, př
 íjmení a společnosti\, kterou zastupujete\, a zda se plánujete účast
 nit fyzicky nebo on-line. Upozorňujeme\, že fyzická kapacita prostor ak
 ce je omezena na 50 osob. V případě on-line registrace ode mě dostane
 te na Váš e-mail link pro připojení nejpozději v den konání akce.\
 nVystupující:\n\nKarel Svoboda\, vědecký pracovník\, Katedra ruských
  a východoevropských studií IMS FSV UK\nŠtěpán Jílek\, ředitel\, C
 zechTrade Rusko-Moskva (TBC)\nTomáš Hart\, vedoucí Obchodně-ekonomick
 ého úseku\, Velvyslanectví České republiky v Ruské federaci\nJan Ko
 hout\, advokát a partner\, advokátní kancelář PRK Partners\nJakub Mar
 eš\, obchodní rada\, Velvyslanectví České republiky v Bělorusku\n\n
 Akci moderuje Martin Pospíšil\, ředitel Odboru zahraničně ekonomický
 ch politik I.\, MPO. \nVaše dotazy\, které jsme obdrželi během posled
 ního semináře i mimo něj\, již průběžně zpracováváme a kontaktu
 jeme Vás telefonicky\, či je předáváme relevantním partnerům. Vybra
 né dotazy budeme zodpovídat i během nadcházejícího semináře. O dal
 ších akcích a možnostech pomoci Vás budeme v následujících týdne
 ch informovat pomocí hromadné e-mailové korespondence\, jako je tato. P
 okud máte zájem o přidání kolegy či kolegyně na seznam e-mailových
  adres\, napište mi prosím na adresu viktora@mpo.cz.\nPro připomenutí 
 zde přikládám záznam prvního semináře z této série s názvem 
 „Seminář k aktuálním podmínkám obchodu s Ruskou federací“\, kte
 rý proběhl minulou středu 2. 3. 2022: Odkaz na Youtube: https://youtu.b
 e/xiaC22UWTtI. Odkaz pro stažení prezentací vystupujících ve formátu
  .PDF: https://uloz.to/tamhle/9uFoPV4cQv8y#!ZGHjMGR2ZJV4ZwMzMwN5ZTWzZzZ4BK
 x4qyShLwEao0Inp2L5Mt==.\nZáznam z druhého semináře (10. 3. 2022) bude
  k dispozici během následujících dní. Prezentaci ze včerejší akce
  ve formátu .PDF je možné stáhnout zde: https://uloz.to/tam/fbf0ea09-b
 6f5-498b-a8d2-d8c0d1f12de6.\n \n
URL:https://www.spcr.cz/seminar-moznosti-ukonceni-podnikani-v-ruske-federac
 i-belorusku
DTSTART:20220317T140000
DTEND:20220317T160000
LOCATION:
END:VEVENT
END:VCALENDAR
