BEGIN:VCALENDAR
PRODID:-//eluceo/ical//2.0/EN
VERSION:2.0
CALSCALE:GREGORIAN
BEGIN:VEVENT
UID:271ddd4447c03ee9c27d42904d8f8e4d
DTSTAMP:20260423T162732Z
SUMMARY:Pozvánka na webinář: Privátní značky ve vybraných zemích
DESCRIPTION:Název akce: Pozvánka na webinář: Privátní značky ve vybr
 aných zemích\nURL: https://www.spcr.cz/pozvanka-na-webinar-privatni-znac
 ky-ve-vybranych-zemich\nPopis: \n\nZveme Vás k účasti na webináři na
  téma: „Privátní značky ve vybraných zemích“pořádaný dne 31.
  března 2022 (čtvrtek) od 13:00 hod. SEČ.\n\nZemědělští diplomaté 
 a místní zástupci pro zemědělství Vám představí informace o obcho
 dních řetězcích a používaných privátních značkách ve vybraných
  teritoriích (Čína\, Japonsko\, Vietnam\, SAE\, Libanon\, Srbsko\, USA\
 , Kazachstán - AJ\, Velká Británie - AJ).Webinář proběhne prostředn
 ictvím MS Teams v českém a částečně v anglickém jazyce (AJ).\nZ
 ájemci o účast se mohou přihlásit přes registrační formulář do 
 29. března 2022.\nOdkaz na webinář Vám bude následně zaslán na Vaš
 i emailovou adresu.\nPozvánku s plánovaným programem naleznete zde.\n
URL:https://www.spcr.cz/pozvanka-na-webinar-privatni-znacky-ve-vybranych-ze
 mich
DTSTART:20220331T130000
DTEND:20220331T235959
LOCATION:
END:VEVENT
END:VCALENDAR
