BEGIN:VCALENDAR
PRODID:-//eluceo/ical//2.0/EN
VERSION:2.0
CALSCALE:GREGORIAN
BEGIN:VEVENT
UID:c4e418cfe471940a3ed97757c6973a82
DTSTAMP:20260423T125705Z
SUMMARY:Pozvánka na konferenci: InvestEU\, EIB a nové nástroje EU
DESCRIPTION:Název akce: Pozvánka na konferenci: InvestEU\, EIB a nové n
 ástroje EU\nURL: https://www.spcr.cz/pozvanka-na-konferenci-investeu-eib-
 nove-nastroje-eu\nPopis: \n\nDovolujeme si Vás pozvat na  konferenci k 
 novému evropskému programu Invest EU\, kterou organizuje Zastoupení Evr
 opské komise v ČR ve spolupráci s kanceláří EIB v Praze.\nKonfere
 nce bude probíhat hybridní formou.Akce Vás seznámí s nabídkou možno
 stí financování ze strany EIB a dalších podpůrných institucí a upo
 zorní na nové příležitosti\, které přináší jak program InvestEU\
 , tak i další nové programy EU\, v jejichž rámci je poskytována vrat
 ná podpora.\nPředběžný program:Lilyana Pavlova\, viceprezidentka Evro
 pské investiční banky Elena Flores\, zástupkyně generálního ředite
 le pro hospodářské a finanční záležitosti\, Evropská komise Panel 
 I: Příležitosti pro veřejný sektor Panel II: Příležitosti pro korp
 orátní klienteluPanel III: Příležitosti pro finanční zprostředkova
 tele.\nNa následujících odkazech můžete nalézt bližší informace 
 či registraci na akci. \n
URL:https://www.spcr.cz/pozvanka-na-konferenci-investeu-eib-nove-nastroje-e
 u
DTSTART:20220325T090000
DTEND:20220325T130000
LOCATION:
END:VEVENT
END:VCALENDAR
