BEGIN:VCALENDAR
PRODID:-//eluceo/ical//2.0/EN
VERSION:2.0
CALSCALE:GREGORIAN
BEGIN:VEVENT
UID:94c8c112c04d36ad4ab67093cad9b819
DTSTAMP:20260423T150145Z
SUMMARY:Webinář - Keňa a Zambie - obchodní příležitosti
DESCRIPTION:Název akce: Webinář - Keňa a Zambie - obchodní příležit
 osti\nURL: https://www.spcr.cz/webinar-kena-zambie-obchodni-prilezitosti\n
 Popis: \n\nOdbor ekonomické diplomacie Ministerstva zahraničních věcí
  ČR pro vás ve spolupráci se zastupitelskými úřady v Nairobi a Lusa
 ce připravil online webinář s ekonomickými diplomaty o aktuálních 
 podnikatelských příležitostech v těchto zemích a širším regionu 
 východní Afriky.\nNa webináři vystoupí s prezentací ekonomičtí dip
 lomaté Marta Anna Ledgard ze zastupitelského úřadu ČR v Nairobi a V
 áclav Kuželka ze zastupitelského úřadu ČR v Lusace a účastníkům
  webináře zprostředkují informace o konkrétních obchodních příle
 žitostech\, perspektivních oborech podnikání a odlišnostech v kultuř
 e obchodního jednání v Keni\, Zambii a sousedních zemích\, které spa
 dají do působnosti zastupitelských úřadů v regionu (Uganda\, Tanzá
 nie\, Rwanda).\nWebinář proběhne ve středu 30. března 2022 od 10:00 
 SEČ přes platformu WebinarJam.\nNa webinář je nutná registrace pře
 dem. Registrovat se můžete zde.Účast na webináři je zdarma.Kontaktn
 í osoba:Martina KaderováOdbor ekonomické diplomacie | Economic Diplomac
 y DepartmentMinisterstvo zahraničních věcí České republiky | Ministr
 y of Foreign Affairs of the Czech RepublicLoretánské náměstí 5\, 118 
 00 Praha 1tel: +420 224 182 846 | mail: martina_kaderova@mzv.czweb: www.mz
 v.cz/ekonomika\n \n
URL:https://www.spcr.cz/webinar-kena-zambie-obchodni-prilezitosti
DTSTART:20220330T100000
DTEND:20220330T120000
LOCATION:
END:VEVENT
END:VCALENDAR
