BEGIN:VCALENDAR
PRODID:-//eluceo/ical//2.0/EN
VERSION:2.0
CALSCALE:GREGORIAN
BEGIN:VEVENT
UID:4b2df39c044953182703de74f78ae383
DTSTAMP:20260423T162819Z
SUMMARY:Den se zemědělským diplomatem v Libanonu (online)
DESCRIPTION:Název akce: Den se zemědělským diplomatem v Libanonu (onlin
 e)\nURL: https://www.spcr.cz/den-se-zemedelskym-diplomatem-v-libanonu-onli
 ne\nPopis: \n\nMinisterstvo zemědělství ČR Vás tímto zve na online s
 etkání (á 30 min) se zemědělským diplomatem v Libanonu. \nZeměděl
 ský diplomat\, Ing. Petr Sochor\, je připraven s Vámi prodiskutovat ko
 nkrétní témata\, která Vás z daného teritoria zajímají.\nINDIVIDU
 ÁLNÍ KONZULTACE mají časovou dotaci á 30 min\, proběhnou na platform
 ě MS Teams. Účast je zdarma.\nV případě zájmu\, prosím\, pište do
  25. března 2022 na email: zuzana.hercikova@mze.cz Vaše preferované 
 časové rozmezí nebo volejte na tel. 221 812 868.\nPotvrzený termín s
 chůzky a odkaz pro přihlášení Vám sdělíme e-mailem nejpozději do 
 tří dnů od zaslání Vašeho požadavku.\nPozvánka\n
URL:https://www.spcr.cz/den-se-zemedelskym-diplomatem-v-libanonu-online
DTSTART:20220330T080000
DTEND:20220330T160000
LOCATION:
END:VEVENT
END:VCALENDAR
