BEGIN:VCALENDAR
PRODID:-//eluceo/ical//2.0/EN
VERSION:2.0
CALSCALE:GREGORIAN
BEGIN:VEVENT
UID:4495fc8ff64b2fba41acebaec0ed626e
DTSTAMP:20260423T162802Z
SUMMARY:On-line prezentační akce pro české společnosti v oblasti ICT
DESCRIPTION:Název akce: On-line prezentační akce pro české společnost
 i v oblasti ICT\nURL: https://www.spcr.cz/line-prezentacni-akce-pro-ceske-
 spolecnosti-v-oblasti-ict-0\nPopis: \n\nVelvyslanectví ČR v Pretorii ve 
 spolupráci s botswanskou agenturou ministerstva průmyslu a obchodu BITC 
 organizuje online prezentaci pro firmy z oblasti ICT v úterý 29. března
  2022 od 10 hodin. \nICT/BPO Sector Overview & Opportunities in Czechia a
 nd BotswanaTuesday 29 March 2022Preliminary Program10:00 – Welcome (Davi
 d Vaverka\, Embassy of the Czech Republic)10:05 – Opening Remarks CZ (Dr
  Pavel Řezáč\, Ambassador of the Czech Republic/MFA10:10 – Opening Re
 marks BW (BITC) Presentations BW:10:15 – Doing Business with Botswana 
 – (BITC)Q&As10:35 – ICT/BPO Sector Overview and Opportunities in Botsw
 ana (BITC) Q&AsPresentations CZ:10:55 – Doing Business in Czechia (TBC)
 Q&As11:15 – ICT/BPO Sector Overview and Opportunities in Czechia (TBC)Q
 &As11:35 – Closing Remarks (David Vaverka\, Embassy of the Czech Republi
 c/BITC)Platform: MS Teams\nKindly RSVP to david_vaverka@mzv.cz by 24 Mar
 ch 2022Contact list and a videorecording of the event will be shared with 
 all registered companies.Contact person:David Vaverka Industry and Trade S
 pecialist  Economic and Commercial Section Embassy of the Czech Republic  
 936 Pretorius St\, 0083 Arcadia\, Pretoria – South Africa  tel: +27 12 4
 31 2389 | cell: +27 60 888 9116  e-mail: david_vaverka@mzv.czmzv.cz/pretor
 ia facebook.com/EmbassyOfTheCzechRepublicInPretoria http://www.mzv.cz/publ
 ic/a1/ff/75/1999643_1538751_mzv_cz_en_lg.png\n
URL:https://www.spcr.cz/line-prezentacni-akce-pro-ceske-spolecnosti-v-oblas
 ti-ict-0
DTSTART:20220329T100000
DTEND:20220329T114000
LOCATION:
END:VEVENT
END:VCALENDAR
