BEGIN:VCALENDAR
PRODID:-//eluceo/ical//2.0/EN
VERSION:2.0
CALSCALE:GREGORIAN
BEGIN:VEVENT
UID:1060a7e168717de0d73b9c69809bfbb7
DTSTAMP:20260423T162952Z
SUMMARY:Finanční a makroekonomické aspekty sankčních režimů vůči R
 uské federaci a Bělorusku
DESCRIPTION:Název akce: Finanční a makroekonomické aspekty sankčních 
 režimů vůči Ruské federaci a Bělorusku\nURL: https://www.spcr.cz/fin
 ancni-makroekonomicke-aspekty-sankcnich-rezimu-vuci-ruske-federaci-belorus
 ku\nPopis: \n\nZveme vás na seminář „Finanční a makroekonomické as
 pekty sankčních režimů vůči Ruské federaci a Bělorusku“\, který
  ve spolupráci s dalšími partnery pořádá MPO\, Sekce zahraničního 
 obchodu a EU. Akce se bude konat hybridně ve čtvrtek 10. 3. 2022 od 14:0
 0 do 16:00 na MS TEAMS a v hlavní budově MPO na adrese Na Františku 32
 \, Praha 1.\n\nJde o akci ze série exportních seminářů MPO v kontextu
  ruské agrese vůči Ukrajině „Ve čtvrtek od dvou do čtyř“. Pokud
  máte zájem se akce účastnit\, zaregistrujte se na e-mailové adrese:
  viktora@mpo.cz.\nNezapomeňte prosím uvést\, jestli se budete akce ú
 častnit fyzicky nebo on-line. Upozorňujeme\, že fyzická kapacita prost
 or akce je omezena na 50 osob. V případě on-line registrace ode mě do
 stanete na Váš e-mail link pro připojení nejpozději v den konání a
 kce.\nVystupující:\n\nVilém Semerák\, vědecký pracovník\, IES FSV U
 K\, CERGE-EI\nJan Procházka\, generální ředitel\, EGAP\nKarel Bureš\,
  Managing Partner\, CORPIN\nJosef Němeček\, ředitel\, Patria.cz (TBC)\n
 zástupce Ministerstva financí ČR (TBD)\n\nAkci moderuje Martin Pospíš
 il\, ředitel Odboru zahraničně ekonomických politik I.\, MPO. \nDotaz
 y\, které MPO obdrželo během posledního semináře i mimo něj\, průb
 ěžně zpracovává. Vybrané dotazy budou zodpovězeny i během nadcház
 ejícího semináře.\nO dalších akcích a možnostech pomoci Vás budem
 e informovat.\nNíže přikládáme záznam prvního semináře z této s
 érie s názvem „Seminář k aktuálním podmínkám obchodu s Ruskou f
 ederací“\, který proběhl minulou středu 2. 3. 2022:\n\nOdkaz na Yout
 ube: https://youtu.be/xiaC22UWTtI\nOdkaz pro stažení prezentací vystupu
 jících ve formátu PDF: https://uloz.to/tamhle/9uFoPV4cQv8y#!ZGHjMGR2ZJV
 4ZwMzMwN5ZTWzZzZ4BKx4qyShLwEao0Inp2L5Mt==\n
URL:https://www.spcr.cz/financni-makroekonomicke-aspekty-sankcnich-rezimu-v
 uci-ruske-federaci-belorusku
DTSTART:20220310T140000
DTEND:20220310T160000
LOCATION:
END:VEVENT
END:VCALENDAR
