BEGIN:VCALENDAR
PRODID:-//eluceo/ical//2.0/EN
VERSION:2.0
CALSCALE:GREGORIAN
BEGIN:VEVENT
UID:a563258923a6c96e7a733133e7efc1d0
DTSTAMP:20260423T150053Z
SUMMARY:Online diskuze k situaci na Ukrajině
DESCRIPTION:Název akce: Online diskuze k situaci na Ukrajině\nURL: https:
 //www.spcr.cz/online-diskuze-k-situaci-na-ukrajine-0\nPopis: \n\nSP ČR v
 ás zve na online diskuzi s odbornými pracovníky státní správy k sou
 časné situaci na Ukrajině. Budete mít možnost se přímo ptát odborn
 íků mimo jiné z ministerstva vnitra\, ministerstva práce a sociálníc
 h věcí a také expertů SP ČR na otázky související s trhem práce a
  zaměstnáváním ukrajinských pracovníků. Diskutovat se bude o témat
 ech: vízová povinnost\, sankce\, obchod\, zaměstnanost\, dávky\, škol
 ství.\nRÁMCOVÝ PROGRAM\n\n16.00     Zahájení\n16.10 – 16.25   
  Vystoupení zástupce MV ČR\n16.25 – 16.40    Diskuze\n16.40 – 17
 .00    Vystoupení zástupců MPSV\n17.00 – 17.15    Diskuze\n17.1
 5 – 17.30    Vystoupení zástupců MŠMT\n17.30 – 17.45    Disk
 uze\n17.45 – 18.00    Vystoupení zástupců MPO\n18.00 – 18.15  
   Diskuze\n\nVýše uvedené časy jsou jen orientační. Chceme\, abyste
  dostali odpovědi na všechny vaše dotazy.\nREGISTRACE\n\nRegistrujte se
  prosím přes online formulář do středy 9. 3. do 14:00. Po registraci 
 obdržíte link na připojení k diskuzi.\n\nV případě dotazů kontaktu
 jte Mgr. Terezu Hejlovou (thejlova@spcr.cz) nebo Lenku Čechovou (tel: 22
 5 279 812).\n
URL:https://www.spcr.cz/online-diskuze-k-situaci-na-ukrajine-0
DTSTART:20220309T160000
DTEND:20220309T181500
LOCATION:
END:VEVENT
END:VCALENDAR
