BEGIN:VCALENDAR
PRODID:-//eluceo/ical//2.0/EN
VERSION:2.0
CALSCALE:GREGORIAN
BEGIN:VEVENT
UID:3e2e149a556ad41c56ecf10fd4946e68
DTSTAMP:20260423T130007Z
SUMMARY:Webinář: PPA smlouvy: budoucnost fotovoltaiky?
DESCRIPTION:Název akce: Webinář: PPA smlouvy: budoucnost fotovoltaiky?\n
 URL: https://www.spcr.cz/webinar-ppa-smlouvy-budoucnost-fotovoltaiky\nPopi
 s: \n\nZúčastněte se on-line webináře Solární asociace zaměřený 
 na PPA smlouvy\, kde z právního hlediska představíme možnosti využit
 í PPA v praxi a zároveň zprostředkujeme pohled bankovní instituce na 
 finanční aspekty.\n\nPraktický webinář: PPA (power purchase agreement
  neboli smlouva o dlouhodobém nákupu elektrické energie) je v zahranič
 í bohatě využívaný nástroj\, který získává na oblibě předevš
 ím kvůli skokovému růstu cen elektřiny a snižování investičních 
 nákladů. V České republice jsme na začátku.\nPřednášející:\n\nV
 yužití PPA v praxi - Pavel Doucha\, Doucha Šikola advokáti s.r.o.\nFin
 ancování PPA i tržních modelů prodeje elektřiny - Jan Jašek\, Head 
 of Industry Expertise Center\, UniCredit Bank Czech Republic and Slovakia\
 , a.s.\n\nWebinář je určený jak pro firmy\, které hledají způsob ja
 k snížit své náklady na energii\, tak i například pro investory\, kt
 eří chtějí získat zákazníky pro PPA projekty.\nVíce informací a r
 egistrace na webu Solární asociace zde.\n
URL:https://www.spcr.cz/webinar-ppa-smlouvy-budoucnost-fotovoltaiky
DTSTART:20220308T100000
DTEND:20220308T120000
LOCATION:
END:VEVENT
END:VCALENDAR
