BEGIN:VCALENDAR
PRODID:-//eluceo/ical//2.0/EN
VERSION:2.0
CALSCALE:GREGORIAN
BEGIN:VEVENT
UID:d4790d9ed2649442fccfcc7c179f3f15
DTSTAMP:20260423T145743Z
SUMMARY:Exportní potenciál trhů JIHOAFRICKÉ REPUBLIKY a NIGÉRIE
DESCRIPTION:Název akce: Exportní potenciál trhů JIHOAFRICKÉ REPUBLIKY 
 a NIGÉRIE\nURL: https://www.spcr.cz/exportni-potencial-trhu-jihoafricke-r
 epubliky-nigerie\nPopis: \n\nHLEDÁTE NOVÉ TRHY?Zajímáte se o export do
  dvou ekonomických gigantů subsaharské Afriky - JAR a NIGÉRIE?Víte\, 
 jaké jsou zde konkrétní exportní příležitosti ve vašem oboru?Podle
  úrovně hrubého domácího produktu na hlavu lze řadit JAR a Nigérie 
 společně s Egyptem mezi nejsilnější státy celého afrického kontine
 ntu. JAR a Nigérie dohromady vytvářejí polovinu HDP tohoto regionu.Vyu
 žijte individuální půlhodinové ONLINE konzultace s řediteli zahrani
 čních kanceláří CzechTrade v JAR (Petr Haramul) a Nigérii (Štěpá
 n Beneš).Projednáte svůj exportní záměr a možnou asistenci zahrani
 ční kanceláře CzechTrade při exportu do JAR a NIGÉRIE. Konzultace je
  také příležitostí k bližšímu představení vaší firmy a produkt
 ů či služeb ředitelům zahraničních kanceláří\, kteří mohou efe
 ktivněji prosazovat Vaše obchodní zájmy na těchto trzích.Naši zahra
 niční specialisté dlouhodobě působí přímo v teritoriích\, znají 
 aktuální dění na tamních trzích\, exportní příležitosti\, obchod
 ní podmínky\, zvyklosti\, jazyk i kontakty. Pomohou s nalezením obchodn
 ích partnerů\, zhodnotí reálné šance na úspěch a doporučí\, jak 
 nejlépe postupovat.\n\nV rámci online přihlášky (do Poznámky) prosí
 m uveďte\, o které teritorium/teritoria máte zájem (JAR\, NIGÉRIE).\n
 Online konzultace jsou individuální\, přes platformu Teams\, a délka j
 edné je 30 minut.\nÚčast na akci je zdarma\, registrace zde: https://w
 ww.czechtrade.cz/kalendar-akci/archiv-akci/exportni-potencial-trhu-jihoafr
 icke-republiky-a-nigerie-_konzultacni-den-online\n\nPřesný čas konzulta
 ce Vám bude sdělen individuálně\, prostřednictvím emailu.Akci pro v
 ás organizují agentury CzechTrade a CzechInvest.\n
URL:https://www.spcr.cz/exportni-potencial-trhu-jihoafricke-republiky-niger
 ie
DTSTART:20220309T000000
DTEND:20220309T235959
LOCATION:
END:VEVENT
END:VCALENDAR
