BEGIN:VCALENDAR
PRODID:-//eluceo/ical//2.0/EN
VERSION:2.0
CALSCALE:GREGORIAN
BEGIN:VEVENT
UID:1e434eed20dfd390fa3433d83eec2246
DTSTAMP:20260423T150132Z
SUMMARY:Online seminář: Jak na export do USA a KANADY
DESCRIPTION:Název akce: Online seminář: Jak na export do USA a KANADY\nU
 RL: https://www.spcr.cz/online-seminar-jak-na-export-do-usa-kanady\nPopis:
  \n\nPraktické informace pro české exportéry zajímající se o americ
 ký a kanadský trh nabídnou pánové Luboš Matějka\, vedoucí zahrani
 ční kanceláře CzechTrade USA - Chicago a Jaroslav Jelínek\, vedouc
 í zahraniční kanceláře CzechTrade Kanada.Anotace:\n\nAktuální infor
 mace ze zmiňovaných trhů - současné ekonomické klima\nSpecifika trh
 ů USA a Kanady\, kulturní rozdíly\, obchodní zvyklosti\nPraktické ti
 py pro obchodování - perspektivní obory\, doporučné kroky\, jakým 
 chybám se vyhnout\nZkušenosti úspěšného exportéra\nSlužby Czechtra
 de\nOtázky & Odpovědi\n\nDůležité:\n\nSvé dotazy k tématu můžete 
 zaslat před online seminářem prostřednictvím přihlášky\, nebo pros
 třednictvím chatu na akci.\nDen před konáním akce Vám e-mailem zašl
 eme prolink na danou akci.\nK účasti na online semináři potřebujete p
 ouze PC\, notebook či telefon s internetovým připojením.\nAkce je ZDAR
 MA - registrace zde: https://www.czechtrade.cz/kalendar-akci/archiv-akci/
 online-seminar_-jak-na-export-do-usa-a-kanady \n
URL:https://www.spcr.cz/online-seminar-jak-na-export-do-usa-kanady
DTSTART:20220406T150000
DTEND:20220406T163000
LOCATION:
END:VEVENT
END:VCALENDAR
