BEGIN:VCALENDAR
PRODID:-//eluceo/ical//2.0/EN
VERSION:2.0
CALSCALE:GREGORIAN
BEGIN:VEVENT
UID:1b807794e157a69fe5e2091cb8b96435
DTSTAMP:20260423T145743Z
SUMMARY:Seminář k aktuálním podmínkám obchodu s Ruskou federací
DESCRIPTION:Název akce: Seminář k aktuálním podmínkám obchodu s Rusk
 ou federací\nURL: https://www.spcr.cz/seminar-k-aktualnim-podminkam-obcho
 du-s-ruskou-federaci-0\nPopis: \n\nMPO zve na seminář k aktuálním podm
 ínkám obchodu s Ruskou federací.\nNa akci vystoupí experti MPO\, Minis
 terstva zahraničních věcí\, Ministerstva financí\, Finančního úřa
 du a Celní správy ČR.\nAkce bude mít hybridní formu – bude proto mo
 žné se jí účastnit fyzicky i on-line\, a to pomocí platformy Microso
 ft Teams. Zároveň bude ze semináře pořízen záznam.Pro účast je nu
 tné se zaregistrovat na e-mailu viktora@mpo.cz s upřesněním\, zda se c
 hcete účastnit fyzicky\, nebo online. Bez potvrzené přihlášky není 
 možné se akce fyzicky účastnit.\nVíce informací na:  https://www.mpo
 .cz/cz/rozcestnik/pro-media/tiskove-zpravy/mpo-zve-na-seminar-k-aktualnim-
 podminkam-obchodu-s-ruskou-federaci--266141/  nebo  https://www.businessin
 fo.cz/akce/seminar-k-aktualnim-podminkam-obchodu-s-ruskou-federaci/\n
URL:https://www.spcr.cz/seminar-k-aktualnim-podminkam-obchodu-s-ruskou-fede
 raci-0
DTSTART:20220302T140000
DTEND:20220302T153000
LOCATION:
END:VEVENT
END:VCALENDAR
