BEGIN:VCALENDAR
PRODID:-//eluceo/ical//2.0/EN
VERSION:2.0
CALSCALE:GREGORIAN
BEGIN:VEVENT
UID:3c226b5dfbd7ac5d1d114f6419585277
DTSTAMP:20260423T150253Z
SUMMARY:Sarajevo Business Forum - 11. mezinárodní obchodní a investičn
 í konference
DESCRIPTION:Název akce: Sarajevo Business Forum - 11. mezinárodní obchod
 ní a investiční konference\nURL: https://www.spcr.cz/sarajevo-business-
 forum-11-mezinarodni-obchodni-investicni-konference\nPopis: \n\nVelvyslane
 ctví Bosny a Hercegoviny v Praze zve na 11. mezinárodní a obchodní kon
 ferenci - Sarajevo Business Forum\, která se bude konat v Sarajevu 11. a 
 12. května 2022. Konference bude platformou pro diskuze o obchodních a i
 nvestičních příležitostech v této zemi\, hlavním mottem akce bude "
 nearshoring" - tedy možnost přesunutí výrobních kapacit evropských s
 polečností do Jihovýchodní Evropy. Místní firmy se dokáží úspě
 šně zapojovat do dodavatelských řetězců v oborech jako je výroba au
 tomobilových součástek\, strojírenství\, elektrotechnický průmysl 
 či textilní průmysl.\nHlavním pořadatelem je místní banka BBI. Spol
 upořadatelem je Ministerstvo zahraničních věcí Bosny a Hercegoviny.\n
 Více informací\nLeták konference\n \n
URL:https://www.spcr.cz/sarajevo-business-forum-11-mezinarodni-obchodni-inv
 esticni-konference
DTSTART:20220511T000000
DTEND:20220512T235959
LOCATION:
END:VEVENT
END:VCALENDAR
