BEGIN:VCALENDAR
PRODID:-//eluceo/ical//2.0/EN
VERSION:2.0
CALSCALE:GREGORIAN
BEGIN:VEVENT
UID:ad989759321999ecfeb847f1197e410b
DTSTAMP:20260423T125849Z
SUMMARY:On-line konference: obchodní politika a strategická autonomie EU 
DESCRIPTION:Název akce: On-line konference: obchodní politika a strategic
 ká autonomie EU \nURL: https://www.spcr.cz/line-konference-obchodni-polit
 ika-strategicka-autonomie-eu\nPopis: \n\nDovolujeme si Vás pozvat na konf
 erenci\, které předsedá francouzský zplnomocněný ministr při minist
 ru zahraničních věcí\, Franck Riester\, na téma  « obchodní polit
 ika a strategická autonomie EU ».\nKonference se uskuteční dne 7. bř
 ezna 2022 v Konferenčním centru Ministerstva Evropy a zahraničních vě
 cí v Paříži a zároveň bude přenášena online. Konferenci zahájí
 :- Franck Riester\, zmocněnec ministra pro zahraniční obchod a ekonomic
 kou atraktivitu- Margrethe Vestagerová\, výkonná místopředsedkyně Ev
 ropské komise\nNásledně se v panelech představí tvůrci politik na vy
 soké úrovni\, odborníci\, zástupci podnikatelského sektoru a mezinár
 odních organizací\, aby diskutovali o- zranitelnosti evropských hodnoto
 vých řetězců odhalených zdravotní krizí\,- obchodním multilaterali
 smu\, - předcházení nečestného jednání a nekalých obchodních prak
 tikách\, - "evropská strategická autonomie tváří v tvář ekonomick
 ému nátlaku".\nVíce informací a možnosti registrace zde.\n
URL:https://www.spcr.cz/line-konference-obchodni-politika-strategicka-auton
 omie-eu
DTSTART:20220307T090000
DTEND:20220307T183000
LOCATION:
END:VEVENT
END:VCALENDAR
