BEGIN:VCALENDAR
PRODID:-//eluceo/ical//2.0/EN
VERSION:2.0
CALSCALE:GREGORIAN
BEGIN:VEVENT
UID:688e2ab919e47591c1c3b1584dfa2097
DTSTAMP:20260423T162802Z
SUMMARY:Annual Investment Meeting ve Spojených Arabských Emirátech
DESCRIPTION:Název akce: Annual Investment Meeting ve Spojených Arabských
  Emirátech\nURL: https://www.spcr.cz/annual-investment-meeting-ve-spojeny
 ch-arabskych-emiratech\nPopis: \n\nMinisterstvo hospodářství Spojených
  Arabských Emirátů pod záštitou J.V. Šejka Mohammeda Bin Rashid Al M
 aktouma\, viceprezidenta SAE a předsedy vlády Dubaje organizuje ve dnech
  29. a 31. března 2022 11. ročník Annual Investment Meeting (AIM\, Výr
 oční investiční setkání). Tématem letošního ročníku je "Invest
 ments in Sustainable Innovation for a Thriving Future".\nAkce se bude popr
 vé konat hybridní formou - tedy prezenčně v Dubai Exhibition Center v 
 areálu EXPO 2020 Dubai a zároveň online. Jedná se o největší setká
 ní korpotárních lídrů\, politiků\, podnikatelů a regionálních a m
 ezinárodních investorů\, předních vědců a expertů\, na kterém bud
 ou prezentovány nejnovější informace\, strategie a znalosti k přilák
 ání zahraničních investic.\nAIM bude generovat investiční příleži
 tosti v různých sektorech dle těchto základních pilířů:  Přímé
  zahraniční investice\, •             Malé a střední podnik
 y\, •             Města budoucnosti\,•             Sta
 rt-upy\, •             Zahraniční portfoliové investice\,•
              \nBrožura AIM\n
URL:https://www.spcr.cz/annual-investment-meeting-ve-spojenych-arabskych-em
 iratech
DTSTART:20220329T000000
DTEND:20220331T235959
LOCATION:
END:VEVENT
END:VCALENDAR
