BEGIN:VCALENDAR
PRODID:-//eluceo/ical//2.0/EN
VERSION:2.0
CALSCALE:GREGORIAN
BEGIN:VEVENT
UID:af9c19483f2bc06f0f7db162beae7514
DTSTAMP:20260423T125836Z
SUMMARY:Webinář podnikatelských příležitostech pro české firmy v US
 A
DESCRIPTION:Název akce: Webinář podnikatelských příležitostech pro 
 české firmy v USA\nURL: https://www.spcr.cz/webinar-podnikatelskych-pril
 ezitostech-pro-ceske-firmy-v-usa\nPopis: \n\nOdbor ekonomické diplomacie 
 Ministerstva zahraničních věcí ČR si Vás dovoluje pozvat na webiná
 ř o aktuálních podnikatelských příležitostech pro české firmy v U
 SA. Webinářem Vás provedou Jiří Janíček a Lucie Hindlsová\, češt
 í ekonomičtí diplomaté v USA.\nNa webináři se dozvíte o současnýc
 h perspektivních sektorech amerického průmyslu\, aktuálních podmínk
 ách vstupu na americký trh nebo kultuře obchodního jednání.\nS infor
 macemi o USA vystoupí Jiří Janíček\, vedoucí ekonomického úseku Ve
 lvyslanectví ČR ve Washingtonu a Lucie Hindlsová\, ekonomická diplomat
 ka Generálního konzulátu v New Yorku.\nWebinář proběhne ve středu 
 16. 3. od 15:00 SEČ přes platformu WebinarJam.\nNa webinář je nutn
 á registrace předem. Registrovat se můžete zde.\nÚčast na webinář
 i je zdarma. \n
URL:https://www.spcr.cz/webinar-podnikatelskych-prilezitostech-pro-ceske-fi
 rmy-v-usa
DTSTART:20220316T150000
DTEND:20220316T170000
LOCATION:
END:VEVENT
END:VCALENDAR
