BEGIN:VCALENDAR
PRODID:-//eluceo/ical//2.0/EN
VERSION:2.0
CALSCALE:GREGORIAN
BEGIN:VEVENT
UID:af16aa18568a5d8bb820c16ca69a8c74
DTSTAMP:20260423T125850Z
SUMMARY:Veletrh EXPOKOS Priština\, Kosovo
DESCRIPTION:Název akce: Veletrh EXPOKOS Priština\, Kosovo\nURL: https://w
 ww.spcr.cz/veletrh-expokos-pristina-kosovo\nPopis: \n\nPředáváme Vám 
 pozvánku k účasti českých firem na mezinárodním veletrhu EXPOKOS\, 
 který se bude konat v Prištině od 25.-26. května 2022. Veletrh bude za
 měřen na stavebnictví\, energetiku\, stroje a průmyslové vybavení to
 váren\, bezpečnost práce\, zabezpečovací techniku apod.\nPozvánka\nV
 íce informací\n
URL:https://www.spcr.cz/veletrh-expokos-pristina-kosovo
DTSTART:20220525T000000
DTEND:20220526T235959
LOCATION:
END:VEVENT
END:VCALENDAR
