BEGIN:VCALENDAR
PRODID:-//eluceo/ical//2.0/EN
VERSION:2.0
CALSCALE:GREGORIAN
BEGIN:VEVENT
UID:a77d13162d79b10fa699dcb65a49aca6
DTSTAMP:20260423T145807Z
SUMMARY:Online seminář: E-commerce v MAĎARSKU a RUMUNSKU - možnosti exp
 anze pro české firmy
DESCRIPTION:Název akce: Online seminář: E-commerce v MAĎARSKU a RUMUNSK
 U - možnosti expanze pro české firmy\nURL: https://www.spcr.cz/online-s
 eminar-e-commerce-v-madarsku-rumunsku-moznosti-expanze-pro-ceske-firmy\nPo
 pis: \n\n \n• Vývoj e-commerce v Maďarsku a Rumunsku\, příležitost
 i pro české exportéry - možnosti expanze.• Jak na provozování e-sh
 opů na tamních trzích\, právnické rady z praxe e-commerce. Best pract
 ice české firmy působící na rumunském trhu.\nVíce informací a regi
 strace\n
URL:https://www.spcr.cz/online-seminar-e-commerce-v-madarsku-rumunsku-mozno
 sti-expanze-pro-ceske-firmy
DTSTART:20220309T100000
DTEND:20220309T120000
LOCATION:
END:VEVENT
END:VCALENDAR
