BEGIN:VCALENDAR
PRODID:-//eluceo/ical//2.0/EN
VERSION:2.0
CALSCALE:GREGORIAN
BEGIN:VEVENT
UID:b902facb3345402dc990e981712a21f9
DTSTAMP:20260423T150038Z
SUMMARY:Veletrh Autotronics Taipei a Taipei AMPA 2022
DESCRIPTION:Název akce: Veletrh Autotronics Taipei a Taipei AMPA 2022\nURL
 : https://www.spcr.cz/veletrh-autotronics-taipei-taipei-ampa-2022\nPopis: 
 \n\nTchajpchejská hospodářská a kulturní kancelář v Praze zve česk
 é firmy na virtuální veletrhy 2022 Autotronics Taipei a Taipei AMPA (
 Taipei international Automobile and Motorcycle Parts & Accessories show).
  Akce je spoluorganizována s Taiwan Electrical and Electronic Manufactu
 rers' Association a Taiwan External Trade Development Council (TAITRA) a b
 ude se konat ve virtuální formě mezi 11. až 24. dubnem.\nV roce 202
 1 se navzdory pandemii eventu zúčastnilo 380 vystavovatelů se 730 stán
 ky a organizátoři v roce 2022 očekávají více než 650 vystavovatelů
  a 1 800 stánků\, které vystaví vysoce kvalitní produkty a představ
 í výhody výroby automobilových dílů a příslušenství na Tchaj-wan
 u. Mnoho předních tchajwanských společností z automobilového sektoru
  se také účastní ve formě vystavovatelů. Veletrh se zaměřuje na te
 chnologie budoucnosti\, jako jsou automatizace a EV.\nVíce informací o 
 veletrhu můžete najít v letácích v odkaze zde: https://drive.google.
 com/drive/folders/Odkaz na registraci naleznete zde: https://www.taipeiam
 pa.com.tw/en/menu/\nV případě jakýchkoli dotazů se neváhejte obráti
 t na kontakt níže nebo přímo na organizátora eventu na následující
  e-mailové adrese: ampa@taitra.org.tw\nOrganizátor eventu 2022 Autotron
 ics Taipei a Taipei AMPA  sdělil\, že v případě\, že se na registru
 je více než 5 českých společností\, všechny společnosti budou mít
  nárok na 10% slevu a organizátor registrovaným firmám zřídí česk
 ý pavilon. Další informace poskytne TECO\, kontakt níže:\nAttila GÁL
 Economic Division\, Taipei Economic and Cultural OfficeZastupitelství Tch
 aj-wanu v České republiceEvropská 2590/33c\, 160 00 Praha 6Tel.: +420 
 234 722 021cztwec01@moea.gov.tw\, cztwec01@gmail.com\n
URL:https://www.spcr.cz/veletrh-autotronics-taipei-taipei-ampa-2022
DTSTART:20220411T000000
DTEND:20220424T235959
LOCATION:
END:VEVENT
END:VCALENDAR
