BEGIN:VCALENDAR
PRODID:-//eluceo/ical//2.0/EN
VERSION:2.0
CALSCALE:GREGORIAN
BEGIN:VEVENT
UID:1fe47246bb08f4ad33e3de9ca0bac9a7
DTSTAMP:20260423T145743Z
SUMMARY:Online seminář: Jak expandovat do MAROKA a EGYPTA
DESCRIPTION:Název akce: Online seminář: Jak expandovat do MAROKA a EGYPT
 A\nURL: https://www.spcr.cz/online-seminar-jak-expandovat-do-maroka-egypta
 \nPopis: \n\nExportní online seminář zaměřený na novinky na marocké
 m a egyptském trhu s řediteli zahraničních kanceláří CzechTrade 
 – ŽIVĚ.Anotace:\n\nSoučasná ekonomická situace a výhledy budouc
 ího vývoje\nAktuální exportní příležitosti a dlouhodobě perspekti
 vní obory v Maroku a Egyptě\nPraktické informace\, rady a tipy pro ús
 pěšný export\nJak na hledání obchodního partnera – specifika egypt
 ského a marockého trhu\nSlužby CzechTrade a možnost podpory českých 
 firem\nPlánované akce pro rok 2022\nOtázky a Odpovědi\n\nObecné infor
 mace:\n\nSvé dotazy k tématu můžete zaslat před online seminářem pr
 ostřednictvím přihlášky\, nebo prostřednictvím chatu na akci.\nDen 
 před konáním akce Vám e-mailem zašleme prolink na danou akci.\nK úč
 asti na online semináři potřebujete pouze PC\, notebook či telefon s i
 nternetovým připojením.\nAkce je ZDARMA. \nRegistrace a další inform
 ace zde: https://www.czechtrade.cz/kalendar-akci/archiv-akci/online-semin
 ar_-jak-expandovat-do-maroka-a-egypta                         
         \n\n \n
URL:https://www.spcr.cz/online-seminar-jak-expandovat-do-maroka-egypta
DTSTART:20220324T100000
DTEND:20220324T113000
LOCATION:
END:VEVENT
END:VCALENDAR
